Workbook

Sheet 2020
B4: APARTAMENTO 304
B5: Mês | C5: Fatura Total (R$) | D5: Consumo Ativo (kWh)
B6: Janeiro
B7: Fevereiro
B8: Março
B9: Abril
B10: Maio
B11: Junho
B12: Julho
B13: Agosto
B14: Setembro
B15: Outubro
B16: Novembro
B17: Dezembro | C17: 39.61 | D17: 50
B18: Total | C18: =SUM(C6:C17) -> 39.61 | D18: =SUM(D6:D17) -> 50

Sheet 2021
B4: APARTAMENTO 304
B5: Mês | C5: Fatura Total (R$) | D5: Consumo Ativo (kWh)
B6: Janeiro | C6: 44.39 | D6: 50
B7: Fevereiro | C7: 38.77 | D7: 50
B8: Março | C8: 40.94 | D8: 50
B9: Abril | C9: 40.51 | D9: 50
B10: Maio | C10: 39.3 | D10: 50
B11: Junho | C11: 40.84 | D11: 50
B12: Julho | C12: 42.09 | D12: 50
B13: Agosto | C13: 44.98 | D13: 50
B14: Setembro | C14: 47.28 | D14: 50
B15: Outubro | C15: 47.38 | D15: 50
B16: Novembro | C16: 50.24 | D16: 50
B17: Dezembro | C17: 58.38 | D17: 52
B18: Total | C18: =SUM(C6:C17) -> 535.1 | D18: =SUM(D6:D17) -> 602

Sheet 2022
B4: APARTAMENTO 304
B5: Mês | C5: Fatura Total (R$) | D5: Consumo Ativo (kWh)
B6: Janeiro | C6: 54.5 | D6: =35+15 -> 50
B7: Fevereiro | C7: 51.92 | D7: 50
B8: Março | C8: 53.1 | D8: 50
B9: Abril | C9: 54.34 | D9: 51
B10: Maio | C10: 57.63 | D10: 51
B11: Junho | C11: 84.91 | D11: 86
B12: Julho | C12: 156.62 | D12: 180
B13: Agosto | C13: 185.3 | D13: 230
B14: Setembro | C14: 292.3 | D14: 375
B15: Outubro | C15: 129.72 | D15: 171
B16: Novembro | C16: 99.88 | D16: 126
B17: Dezembro | C17: 119.75 | D17: 150
B18: Total | C18: =SUM(C6:C17) -> 1339.97 | D18: =SUM(D6:D17) -> 1570

Sheet 2023
B4: APARTAMENTO 304
B5: Mês | C5: Fatura Total (R$) | D5: Consumo Ativo (kWh)
B6: Janeiro | C6: 51.63 | D6: 50
B7: Fevereiro | C7: 55.8 | D7: 57
B8: Março | C8: 82.05 | D8: 88
B9: Abril | C9: 121.48 | D9: 142
B10: Maio | C10: 114.46 | D10: 133
B11: Junho | C11: 71.34 | D11: 78
B12: Julho | C12: 200.33 | D12: 248
B13: Agosto | C13: 134.1 | D13: 161
B14: Setembro | C14: 198.08 | D14: 245
B15: Outubro | C15: 119.3 | D15: 141
B16: Novembro | C16: 103.67 | D16: 118
B17: Dezembro | C17: 118.6 | D17: 136
B18: Total | C18: =SUM(C6:C17) -> 1370.84 | D18: =SUM(D6:D17) -> 1597

Sheet 2024
B4: APARTAMENTO 304
B5: Mês | C5: Fatura Total (R$) | D5: Consumo Ativo (kWh)
B6: Janeiro | C6: 50.78 | D6: 50
B7: Fevereiro | C7: 86.22 | D7: 98
B8: Março | C8: 94.8 | D8: 110
B9: Abril | C9: 85.09 | D9: 96
B10: Maio | C10: 231.49 | D10: 287
B11: Junho | C11: 303.89 | D11: 384
B12: Julho | C12: 307.93 | D12: 388
B13: Agosto | C13: 307.67 | D13: 372
B14: Setembro | C14: 296.74 | D14: 346
B15: Outubro | C15: 192.52 | D15: 209
B16: Novembro | C16: 140.45 | D16: 159
B17: Dezembro | C17: 159.86 | D17: 173
B18: Total | C18: =SUM(C6:C17) -> 2257.44 | D18: =SUM(D6:D17) -> 2672

Sheet 2025
B4: APARTAMENTO 304
B5: Mês | C5: Fatura Total (R$) | D5: Consumo Ativo (kWh)
B6: Janeiro | C6: 64.38 | D6: 50
B7: Fevereiro | C7: 121.66 | D7: 123
B8: Março | C8: 138.82 | D8: 145
B9: Abril | C9: 128.16 | D9: 139
B10: Maio | C10: 199.34 | D10: 221
B11: Junho | C11: 345.26 | D11: 389
B12: Julho | C12: 387.59 | D12: 438
B13: Agosto | C13: 316.54 | D13: 353
B14: Setembro | C14: 119.09 | D14: 115
B15: Outubro | C15: 140.53 | D15: 142
B16: Novembro | C16: 115.08 | D16: 116
B17: Dezembro | C17: 168.38 | D17: 155
B18: Total | C18: =SUM(C6:C17) -> 2244.83 | D18: =SUM(D6:D17) -> 2386

Sheet 2026
B4: APARTAMENTO 304
B5: Mês | C5: Fatura Total (R$) | D5: Consumo Ativo (kWh)
B6: Janeiro | C6: 68.79 | D6: 53
B7: Fevereiro | C7: 80.19 | D7: 67
B8: Março | C8: 100.52 | D8: 87
B9: Abril | C9: 140.18 | D9: 129
B10: Maio | C10: 189.43 | D10: 176
B11: Junho | C11: 212.36 | D11: 189
B12: Julho | C12: 185.79 | D12: 173
B13: Agosto | C13: 176.09 | D13: 163
B14: Setembro | C14: 184.22 | D14: 171
B15: Outubro
B16: Novembro
B17: Dezembro
B18: Total | C18: =SUM(C6:C17) -> 1337.57 | D18: =SUM(D6:D17) -> 1208

Sheet GRAFICO
B4: APARTAMENTO 304
B5: Mês | C5: Fatura Total (R$) | D5: Consumo Ativo (kWh)
B6: 45931 | C6: 140.53 | D6: 142
B7: 45962 | C7: 115.08 | D7: 116
B8: 45992 | C8: 168.38 | D8: 155
B9: 46023 | C9: 68.79 | D9: 53
B10: 46054 | C10: 80.19 | D10: 67
B11: 46082 | C11: 100.52 | D11: 87
B12: 46113 | C12: 140.18 | D12: 129
B13: 46143 | C13: 189.43 | D13: 176
B14: 46174 | C14: 212.36 | D14: 189
B15: 46204 | C15: 185.79 | D15: 173
B16: 46235 | C16: 176.09 | D16: 163
B17: 46266 | C17: 184.22 | D17: 171

Sheet HISTORICO
B4: APARTAMENTO 304
B5: Ano | C5: Total em dinheiro (R$) | D5: Total em consumo (kWh)
B6: 2019
B7: 2020 | C7: ='2020'!C17 -> 39.61 | D7: ='2020'!D18 -> 50
B8: 2021 | C8: ='2021'!C18 -> 535.1 | D8: ='2021'!D18 -> 602
B9: 2022 | C9: 1339.97 | D9: 1570
B10: 2023 | C10: ='2023'!C18 -> 1370.84 | D10: ='2023'!D18 -> 1597
B11: 2024 | C11: ='2024'!C18 -> 2257.44 | D11: ='2024'!D18 -> 2672
B12: 2025 | C12: ='2025'!C18 -> 2244.83 | D12: ='2025'!D18 -> 2386
B13: 2026
B14: 2027
B15: 2028
B16: 2029
