Workbook

Sheet 2012
B4: CEHUS- Centro de Pós-Graduação
B5: Mês | C5: Fatura Total (R$) | D5: Consumo Ativo (kWh)
B6: Janeiro | C6: 312.76 | D6: 646
B7: Fevereiro | C7: 311.72 | D7: 639
B8: Março | C8: 368.25 | D8: 755
B9: Abril | C9: 342.49 | D9: 695
B10: Maio | C10: 321.65 | D10: 651
B11: Junho | C11: 266.04 | D11: 552
B12: Julho | C12: 208.32 | D12: 437
B13: Agosto | C13: 183.13 | D13: 383
B14: Setembro | C14: 170.41 | D14: 349
B15: Outubro | C15: 128.83 | D15: 265
B16: Novembro | C16: 138.83 | D16: 289
B17: Dezembro | C17: 138.83 | D17: 289
B18: Total | C18: =SUM(C6:C17) -> 2891.26 | D18: =SUM(D6:D17) -> 5950

Sheet 2013
B4: CEHUS- Centro de Pós-Graduaçãol
B5: Mês | C5: Fatura Total (R$) | D5: Consumo Ativo (kWh)
B6: Janeiro | C6: 175.8 | D6: 340
B7: Fevereiro | C7: 139.13 | D7: 331
B8: Março | C8: 165.06 | D8: 436
B9: Abril | C9: 177.11 | D9: 458
B10: Maio | C10: 169.34 | D10: 460
B11: Junho | C11: 127.61 | D11: 344
B12: Julho | C12: 151.48 | D12: 414
B13: Agosto | C13: 310.74 | D13: 842
B14: Setembro | C14: 330.9 | D14: 903
B15: Outubro | C15: 236.86 | D15: 627
B16: Novembro | C16: 242.27 | D16: 618
B17: Dezembro | C17: 254.42 | D17: 618
B18: Total | C18: =SUM(C6:C17) -> 2480.72 | D18: =SUM(D6:D17) -> 6391

Sheet 2014
B4: CEHUS- Centro de Pós-Graduação
B5: Mês | C5: Fatura Total (R$) | D5: Consumo Ativo (kWh)
B6: Janeiro | C6: 175.8 | D6: 340
B7: Fevereiro | C7: 139.13 | D7: 331
B8: Março | C8: 165.06 | D8: 436
B9: Abril | C9: 177.11 | D9: 458
B10: Maio | C10: 169.34 | D10: 460
B11: Junho | C11: 127.61 | D11: 344
B12: Julho | C12: 151.48 | D12: 414
B13: Agosto | C13: 310.74 | D13: 842
B14: Setembro | C14: 330.9 | D14: 903
B15: Outubro | C15: 236.86 | D15: 627
B16: Novembro | C16: 242.27 | D16: 618
B17: Dezembro | C17: 254.42 | D17: 618
B18: Total | C18: =SUM(C6:C17) -> 2480.72 | D18: =SUM(D6:D17) -> 6391

Sheet 2015
B4: CEHUS- Centro de Pós-Graduação
B5: Mês | C5: Fatura Total (R$) | D5: Consumo Ativo (kWh)
B6: Janeiro | C6: 330.76 | D6: 642
B7: Fevereiro | C7: 254.3 | D7: 468
B8: Março | C8: 271.6 | D8: 441
B9: Abril | C9: 289.71 | D9: 415
B10: Maio | C10: 487 | D10: 349.36
B11: Junho | C11: 332.06 | D11: 460
B12: Julho | C12: 453.01 | D12: 645
B13: Agosto | C13: 417.61 | D13: 592
B14: Setembro | C14: 291.55 | D14: 392
B15: Outubro | C15: 681.96 | D15: 984
B16: Novembro | C16: 728.92 | D16: 1030
B17: Dezembro
B18: Total | C18: =SUM(C6:C17) -> 4538.48 | D18: =SUM(D6:D17) -> 6418.36

Sheet 2016
B4: CEHUS- Centro de Pós-Graduação
B5: Mês | C5: Fatura Total (R$) | D5: Consumo Ativo (kWh)
B6: Janeiro | C6: 1387.05 | D6: 1743
B7: Fevereiro | C7: 2381.66 | D7: 3102
B8: Março | C8: 1874.77 | D8: 2399
B9: Abril | C9: 1970.31 | D9: 2575
B10: Maio | C10: 1254.94 | D10: 1775
B11: Junho | C11: 1440.4 | D11: 2048
B12: Julho | C12: 1454.81 | D12: 2061
B13: Agosto | C13: 1639.62 | D13: 2372
B14: Setembro | C14: 1281.17 | D14: 1811
B15: Outubro | C15: 1290.25 | D15: 1874
B16: Novembro | C16: 912.3 | D16: 1331
B17: Dezembro | C17: 908.95 | D17: 1412
B18: Total | C18: =SUM(C6:C17) -> 17796.23 | D18: =SUM(D6:D17) -> 24503

Sheet 2017
B4: CEHUS- Centro de Pós-Graduação
B5: Mês | C5: Fatura Total (R$) | D5: Consumo Ativo (kWh)
B6: Janeiro | C6: 743.39 | D6: 1291
B7: Fevereiro | C7: 865.96 | D7: 1536
B8: Março | C8: 753.89 | D8: 1333
B9: Abril | C9: 750.28 | D9: 1282
B10: Maio | C10: 839.38 | D10: 1421
B11: Junho | C11: 1443.95 | D11: 2279
B12: Julho | C12: 787.18 | D12: 1278
B13: Agosto | C13: 179.19 | D13: 293
B14: Setembro | C14: 224.19 | D14: 326
B15: Outubro | C15: 1224.28 | D15: 2094
B16: Novembro | C16: 1100.21 | D16: 1816
B17: Dezembro | C17: 1256.14 | D17: 2019
B18: Total | C18: =SUM(C6:C17) -> 10168.04 | D18: =SUM(D6:D17) -> 16968

Sheet 2018
B4: CEHUS- Centro de Pós-Graduação
B5: Mês | C5: Fatura Total (R$) | D5: Consumo Ativo (kWh)
B6: Janeiro | C6: 1650.16 | D6: 2394
B7: Fevereiro | C7: 2035.71 | D7: 2755
B8: Março | C8: 2521.94 | D8: 3476
B9: Abril | C9: 2155.18 | D9: 2860
B10: Maio | C10: 2901.7 | D10: 4035
B11: Junho | C11: 2585.13 | D11: 3468
B12: Julho | C12: 3453.18 | D12: 4118
B13: Agosto | C13: 3408.3 | D13: 4281
B14: Setembro | C14: 3018.12 | D14: 3653
B15: Outubro | C15: 3004.03 | D15: 3783
B16: Novembro | C16: 2889.66 | D16: 3686
B17: Dezembro | C17: 2557.3 | D17: 3427
B18: Total | C18: =SUM(C6:C17) -> 32180.41 | D18: =SUM(D6:D17) -> 41936

Sheet 2019
B4: CEHUS- Centro de Pós-Graduação
B5: Mês | C5: Fatura Total (R$) | D5: Consumo Ativo (kWh)
B6: Janeiro | C6: 1940.62 | D6: 2480
B7: Fevereiro | C7: 1201.51 | D7: 1850
B8: Março | C8: 1686.55 | D8: 1991
B9: Abril | C9: 2725.22 | D9: 3351
B10: Maio | C10: 3254.37 | D10: 4087
B11: Junho | C11: 3500.12 | D11: 4433
B12: Julho | C12: 3708.9 | D12: 4666
B13: Agosto | C13: 3484.63 | D13: 4369
B14: Setembro | C14: 3698.6 | D14: 4375
B15: Outubro | C15: 3507.26 | D15: 4173
B16: Novembro | C16: 2534.56 | D16: 3208
B17: Dezembro | C17: 2493.21 | D17: 3118
B18: Total | C18: =SUM(C6:C17) -> 33735.55 | D18: =SUM(D6:D17) -> 42101

Sheet 2020
B4: CEHUS- Centro de Pós-Graduação
B5: Mês | C5: Fatura Total (R$) | D5: Consumo Ativo (kWh)
B6: Janeiro | C6: 1729.79 | D6: 2235
B7: Fevereiro | C7: 1417.08 | D7: 1888
B8: Março | C8: 1365.58 | D8: 1840
B9: Abril | C9: 1285.89 | D9: 1665
B10: Maio | C10: 440.3 | D10: 591
B11: Junho | C11: 415.27 | D11: 577
B12: Julho | C12: 789.23 | D12: 1097
B13: Agosto | C13: 1169.11 | D13: 1607
B14: Setembro | C14: 751.36 | D14: 1046
B15: Outubro | C15: 611.42 | D15: 816
B16: Novembro | C16: 632.6 | D16: 849
B17: Dezembro | C17: 847.84 | D17: 1089
B18: Total | C18: =SUM(C6:C17) -> 11455.47 | D18: =SUM(D6:D17) -> 15300

Sheet 2021
B4: CEHUS- Centro de Pós-Graduação
B5: Mês | C5: Fatura Total (R$) | D5: Consumo Ativo (kWh)
B6: Janeiro | C6: 911.36 | D6: 1023
B7: Fevereiro | C7: 698.74 | D7: 1090
B8: Março | C8: 769.37 | D8: 912
B9: Abril | C9: 852.87 | D9: 1041
B10: Maio | C10: 767.9 | D10: 980
B11: Junho | C11: 866.73 | D11: 1063
B12: Julho | C12: 1130.69 | D12: 1443
B13: Agosto | C13: 1856.36 | D13: 2062
B14: Setembro | C14: 2309.99 | D14: 2450
B15: Outubro | C15: 1818.52 | D15: 1809
B16: Novembro | C16: 1731.86 | D16: 1781
B17: Dezembro | C17: 1749.94 | D17: 1560
B18: Total | C18: =SUM(C6:C17) -> 15464.33 | D18: =SUM(D6:D17) -> 17214

Sheet 2022
B4: CEHUS- Centro de Pós-Graduação
B5: Mês | C5: Fatura Total (R$) | D5: Consumo Ativo (kWh)
B6: Janeiro | C6: 1678.47 | D6: 1534
B7: Fevereiro | C7: 1163.13 | D7: 1120
B8: Março | C8: 1701.84 | D8: 1604
B9: Abril | C9: 344.76 | D9: 1964
B10: Maio | C10: 254.34 | D10: 1463
B11: Junho | C11: 375.78 | D11: 2678
B12: Julho | C12: 332.44 | D12: 3605
B13: Agosto | C13: 317.57 | D13: 3614
B14: Setembro | C14: 261.03 | D14: 2679
B15: Outubro | C15: 80.91 | D15: 2461
B16: Novembro | C16: 81.78 | D16: 2189
B17: Dezembro | C17: 83.81 | D17: 1958
B18: Total | C18: =SUM(C6:C17) -> 6675.86 | D18: =SUM(D6:D17) -> 26869

Sheet 2023
B4: CEHUS- Centro de Pós-Graduação
B5: Mês | C5: Fatura Total (R$) | D5: Consumo Ativo (kWh)
B6: Janeiro | C6: 84.75 | D6: 1392
B7: Fevereiro | C7: 84.85 | D7: 1620
B8: Março | C8: 258.25 | D8: 2278
B9: Abril | C9: 293.5 | D9: 2814
B10: Maio | C10: 326.55 | D10: 3258
B11: Junho | C11: 262.49 | D11: 2451
B12: Julho | C12: 415.15 | D12: 4510
B13: Agosto | C13: 299.78 | D13: 2960
B14: Setembro | C14: 277.2 | D14: 2649
B15: Outubro | C15: 272.58 | D15: 2582
B16: Novembro | C16: 235.08 | D16: 2017
B17: Dezembro | C17: 253.74 | D17: 2267
B18: Total | C18: =SUM(C6:C17) -> 3063.92 | D18: =SUM(D6:D17) -> 30798

Sheet 2024
B4: CEHUS- Centro de Pós-Graduação
B5: Mês | C5: Fatura Total (R$) | D5: Consumo Ativo (kWh)
B6: Janeiro | C6: 159.8 | D6: 1045
B7: Fevereiro | C7: 170.04 | D7: 1231
B8: Março | C8: 205.31 | D8: 1730
B9: Abril | C9: 180.48 | D9: 1362
B10: Maio | C10: 150.64 | D10: 943
B11: Junho | C11: 208.81 | D11: 1749
B12: Julho | C12: 255.47 | D12: 2397
B13: Agosto | C13: 261.65 | D13: 2364
B14: Setembro | C14: 339.55 | D14: 3278
B15: Outubro | C15: 242.48 | D15: 2002
B16: Novembro | C16: 208.12 | D16: 1718
B17: Dezembro | C17: 227.99 | D17: 1646
B18: Total | C18: =SUM(C6:C17) -> 2610.34 | D18: =SUM(D6:D17) -> 21465

Sheet 2025
B4: CEHUS- Centro de Pós-Graduação
B5: Mês | C5: Fatura Total (R$) | D5: Consumo Ativo (kWh)
B6: Janeiro | C6: 208.12 | D6: 787
B7: Fevereiro | C7: 196.55 | D7: 1218
B8: Março | C8: 186.47 | D8: 1098
B9: Abril | C9: 230.61 | D9: 1630
B10: Maio | C10: 215.33 | D10: 1430
B11: Junho | C11: 288.64 | D11: 2282
B12: Julho | C12: 310.77 | D12: 2573
B13: Agosto | C13: 294.45 | D13: 2422
B14: Setembro | C14: 253.04 | D14: 1833
B15: Outubro | C15: 231.41 | D15: 1591
B16: Novembro | C16: 216.62 | D16: 1434
B17: Dezembro | C17: 222.33 | D17: 1206
B18: Total | C18: =SUM(C6:C17) -> 2854.34 | D18: =SUM(D6:D17) -> 19504

Sheet 2026
B4: CEHUS- Centro de Pós-Graduação
B5: Mês | C5: Fatura Total (R$) | D5: Consumo Ativo (kWh)
B6: Janeiro | C6: 162.09 | D6: 577
B7: Fevereiro | C7: 188.89 | D7: 910
B8: Março | C8: 191.39 | D8: 912
B9: Abril | C9: 195.27 | D9: 870
B10: Maio | C10: 207.66 | D10: 1063
B11: Junho | C11: 230.15 | D11: 1097
B12: Julho | C12: 218.74 | D12: 1202
B13: Agosto | C13: 307.23 | D13: 2035
B14: Setembro | C14: 282.09 | D14: 1765
B15: Outubro
B16: Novembro
B17: Dezembro
B18: Total | C18: =SUM(C6:C17) -> 1983.51 | D18: =SUM(D6:D17) -> 10431

Sheet GRAFICO
B4: CEHUS- Centro de Pós-Graduação
B5: Mês | C5: Fatura Total (R$) | D5: Consumo Ativo (kWh)
B6: 45931 | C6: 231.41 | D6: 1591
B7: 45962 | C7: 216.62 | D7: 1434
B8: 45992 | C8: 222.33 | D8: 1206
B9: 46023 | C9: 162.09 | D9: 577
B10: 46054 | C10: 188.89 | D10: 910
B11: 46082 | C11: 191.39 | D11: 912
B12: 46113 | C12: 195.27 | D12: 870
B13: 46143 | C13: 207.66 | D13: 1063
B14: 46174 | C14: 230.15 | D14: 1097
B15: 46204 | C15: 218.74 | D15: 1202
B16: 46235 | C16: 307.23 | D16: 2035
B17: 46266 | C17: 282.09 | D17: 1765 | E17: 3

Sheet HISTORICO
B4: CEHUS- Centro de Pós-Graduação
B5: Ano | C5: Total em dinheiro (R$) | D5: Total em consumo (kWh)
B6: 2004 | C6: 0 | D6: 0
B7: 2005 | C7: 0 | D7: 0
B8: 2006 | C8: 0 | D8: 0
B9: 2007 | C9: 0 | D9: 0
B10: 2008 | C10: 0 | D10: 0
B11: 2009 | C11: 107.66 | D11: 248
B12: 2010 | C12: 2335.85 | D12: 5295
B13: 2011 | C13: 2773.23 | D13: 6079
B14: 2012 | C14: ='2012'!C$18 -> 2891.26 | D14: ='2012'!D$18 -> 5950
B15: 2013 | C15: ='2013'!C$18 -> 2480.72 | D15: ='2013'!D$18 -> 6391
B16: 2014 | C16: ='2014'!C$18 -> 2480.72 | D16: ='2014'!D$18 -> 6391
B17: 2015 | C17: ='2015'!C$18 -> 4538.48 | D17: ='2015'!D$18 -> 6418.36
B18: 2016 | C18: ='2016'!C$18 -> 17796.23 | D18: ='2016'!D$18 -> 24503
B19: 2017 | C19: ='2017'!C$18 -> 10168.04 | D19: ='2017'!D$18 -> 16968
B20: 2018 | C20: ='2018'!C$18 -> 32180.41 | D20: ='2018'!D$18 -> 41936
B21: 2019 | C21: ='2019'!C18 -> 33735.55 | D21: ='2019'!D18 -> 42101
B22: 2020 | C22: ='2020'!C18 -> 11455.47 | D22: ='2020'!D18 -> 15300
B23: 2021 | C23: ='2021'!C$18 -> 15464.33 | D23: ='2021'!D$18 -> 17214
B24: 2022 | C24: ='2022'!C$18 -> 6675.86 | D24: ='2022'!D$18 -> 26869
B25: 2023 | C25: ='2023'!C$18 -> 3063.92 | D25: ='2023'!D$18 -> 30798
B26: 2024 | C26: 2610.34 | D26: 21465
B27: 2025 | C27: 2854.34 | D27: 19504
