Workbook

Sheet 2017
B4: APARTAMENTO 502
B5: Mês | C5: Fatura Total (R$) | D5: Consumo Ativo (kWh)
B6: Janeiro
B7: Fevereiro
B8: Março
B9: Abril
B10: Maio
B11: Junho
B12: Julho
B13: Agosto
B14: Setembro
B15: Outubro
B16: Novembro | C16: 83.37 | D16: 134
B17: Dezembro | C17: 116.06 | D17: 191
B18: Total | C18: =SUM(C16:C17) -> 199.43 | D18: =SUM(D16:D17) -> 325

Sheet 2018
B4: APARTAMENTO 502
B5: Mês | C5: Fatura Total (R$) | D5: Consumo Ativo (kWh)
B6: Janeiro | C6: 56.84 | D6: 76
B7: Fevereiro | C7: 87.73 | D7: 114
B8: Março | C8: 76.9 | D8: 106
B9: Abril | C9: 117.97 | D9: 155
B10: Maio | C10: 70.64 | D10: 99
B11: Junho | C11: 120.39 | D11: 152
B12: Julho | C12: 122.06 | D12: 151
B13: Agosto | C13: 120.59 | D13: 151
B14: Setembro | C14: 164.99 | D14: 204
B15: Outubro | C15: 245.36 | D15: 309
B16: Novembro | C16: 184.88 | D16: 245
B17: Dezembro | C17: 155.34 | D17: 202
B18: Total | C18: =SUM(C6:C17) -> 1523.69 | D18: =SUM(D6:D17) -> 1964

Sheet 2019
B4: APARTAMENTO 502
B5: Mês | C5: Fatura Total (R$) | D5: Consumo Ativo (kWh)
B6: Janeiro | C6: 27.8 | D6: 35
B7: Fevereiro | C7: 89.75 | D7: 111
B8: Março | C8: 66.58 | D8: 76
B9: Abril | C9: 252.25 | D9: 313
B10: Maio | C10: 276.39 | D10: 348
B11: Junho | C11: 260.78 | D11: 326
B12: Julho | C12: 307 | D12: 307
B13: Agosto | C13: 134.39 | D13: 158
B14: Setembro | C14: 237.62 | D14: 287
B15: Outubro | C15: 283.55 | D15: 344
B16: Novembro | C16: 199.42 | D16: 247
B17: Dezembro | C17: 160.67 | D17: 213
B18: Total | C18: =SUM(C6:C17) -> 2296.2 | D18: =SUM(D6:D17) -> 2765

Sheet 2020
B4: APARTAMENTO 502
B5: Mês | C5: Fatura Total (R$) | D5: Consumo Ativo (kWh)
B6: Janeiro | C6: 34.81 | D6: 45
B7: Fevereiro | C7: 54.97 | D7: 72
B8: Março | C8: 125.41 | D8: 169
B9: Abril | C9: 182.26 | D9: 236
B10: Maio | C10: 191,,45 | D10: 257
B11: Junho | C11: 166.97 | D11: 232
B12: Julho | C12: 180.58 | D12: 251
B13: Agosto | C13: 21.82 | D13: 30
B14: Setembro | C14: 21.75 | D14: 30
B15: Outubro | C15: 22.47 | D15: 30
B16: Novembro | C16: 22.35 | D16: 30
B17: Dezembro | C17: 25 | D17: 30
B18: Total | C18: =SUM(C6:C17) -> 858.39 | D18: =SUM(D6:D17) -> 1412

Sheet 2021
B4: APARTAMENTO 502
B5: Mês | C5: Fatura Total (R$) | D5: Consumo Ativo (kWh)
B6: Janeiro | C6: 66.36 | D6: 77
B7: Fevereiro | C7: 58.47 | D7: 73
B8: Março | C8: 70.42 | D8: 86
B9: Abril | C9: 103.93 | D9: 129
B10: Maio | C10: 73.53 | D10: 92
B11: Junho | C11: 101.01 | D11: 122
B12: Julho | C12: 97.21 | D12: 113
B13: Agosto | C13: 320.48 | D13: 356
B14: Setembro | C14: 192.93 | D14: 199
B15: Outubro | C15: 97.48 | D15: 97
B16: Novembro | C16: 29.15 | D16: 30
B17: Dezembro | C17: 33.34 | D17: 30
B18: Total | C18: =SUM(C6:C17) -> 1244.31 | D18: =SUM(D6:D17) -> 1404

Sheet 2022
B4: APARTAMENTO 502
B5: Mês | C5: Fatura Total (R$) | D5: Consumo Ativo (kWh)
B6: Janeiro | C6: 31.96 | D6: =11+19 -> 30
B7: Fevereiro | C7: 101.77 | D7: 98
B8: Março | C8: 87.06 | D8: 83
B9: Abril | C9: 255.5 | D9: 251
B10: Maio | C10: 151.57 | D10: 165
B11: Junho | C11: 146.65 | D11: 159
B12: Julho | C12: 126.11 | D12: 148
B13: Agosto | C13: 144.65 | D13: 176
B14: Setembro | C14: 195.21 | D14: 245
B15: Outubro | C15: 153.77 | D15: 206
B16: Novembro | C16: 116.61 | D16: 150
B17: Dezembro | C17: 191.91 | D17: 248
B18: Total | C18: =SUM(C6:C17) -> 1702.77 | D18: =SUM(D6:D17) -> 1959

Sheet 2023
B4: APARTAMENTO 502
B5: Mês | C5: Fatura Total (R$) | D5: Consumo Ativo (kWh)
B6: Janeiro | C6: 116.67 | D6: 144
B7: Fevereiro | C7: 178.99 | D7: 207
B8: Março | C8: 214.65 | D8: 255
B9: Abril | C9: 152.28 | D9: 182
B10: Maio | C10: 212.17 | D10: 260
B11: Junho | C11: 148 | D11: 179
B12: Julho | C12: 108.51 | D12: 127
B13: Agosto | C13: 160.64 | D13: 196
B14: Setembro | C14: 166.98 | D14: 204
B15: Outubro | C15: =195.29 -> 195.29 | D15: 241
B16: Novembro | C16: 119.18 | D16: 138
B17: Dezembro | C17: 71.97 | D17: 76
B18: Total | C18: =SUM(C6:C17) -> 1845.33 | D18: =SUM(D6:D17) -> 2209

Sheet 2024
B4: APARTAMENTO 502
B5: Mês | C5: Fatura Total (R$) | D5: Consumo Ativo (kWh)
B6: Janeiro | C6: =35.35 -> 35.35 | D6: =30 -> 30
B7: Fevereiro | C7: 34.82 | D7: 30
B8: Março | C8: 126.37 | D8: 152
B9: Abril | C9: 131.44 | D9: 157
B10: Maio | C10: 171.13 | D10: 208
B11: Junho | C11: 174.74 | D11: 214
B12: Julho | C12: 166.64 | D12: 204
B13: Agosto | C13: 216.23 | D13: 255
B14: Setembro | C14: 194.37 | D14: 221
B15: Outubro | C15: 128.14 | D15: 135
B16: Novembro | C16: 162.04 | D16: 186
B17: Dezembro | C17: 162.27 | D17: 176
B18: Total | C18: =SUM(C6:C17) -> 1703.54 | D18: =SUM(D6:D17) -> 1968

Sheet 2025
B4: APARTAMENTO 502
B5: Mês | C5: Fatura Total (R$) | D5: Consumo Ativo (kWh)
B6: Janeiro | C6: 48.77 | D6: 30
B7: Fevereiro | C7: 123.24 | D7: 125
B8: Março | C8: 116.94 | D8: 117
B9: Abril | C9: 107.37 | D9: 114
B10: Maio | C10: 119.5 | D10: 126
B11: Junho | C11: 179.48 | D11: 194
B12: Julho | C12: 223.78 | D12: 245
B13: Agosto | C13: 252.34 | D13: 277
B14: Setembro | C14: 177.28 | D14: 180
B15: Outubro | C15: 272.34 | D15: 291
B16: Novembro | C16: 207.75 | D16: 219
B17: Dezembro | C17: 192.68 | D17: 179
B18: Total | C18: =SUM(C6:C17) -> 2021.47 | D18: =SUM(D6:D17) -> 2097

Sheet 2026
B4: APARTAMENTO 502
B5: Mês | C5: Fatura Total (R$) | D5: Consumo Ativo (kWh)
B6: Janeiro | C6: 45.8 | D6: 30
B7: Fevereiro
B8: Março
B9: Abril
B10: Maio
B11: Junho
B12: Julho
B13: Agosto
B14: Setembro
B15: Outubro
B16: Novembro
B17: Dezembro
B18: Total | C18: =SUM(C6:C17) -> 45.8 | D18: =SUM(D6:D17) -> 30

Sheet GRAFICO
B4: APARTAMENTO 502
B5: Mês | C5: Fatura Total (R$) | D5: Consumo Ativo (kWh)
B6: Novembro/2025 | C6: 207.75 | D6: 219
B7: Dezembro/2025 | C7: 192.68 | D7: 179
B8: Janeiro/2026 | C8: 45.8 | D8: 30
B9: Fevereiro/2026 | C9: 49.47 | D9: 35
B10: Março/2026 | C10: 63.53 | D10: 49
B11: Abril/2026 | C11: 49.56 | D11: 35
B12: Maio/2026 | C12: 80.41 | D12: 65
B13: Junho/2026 | C13: 81.76 | D13: 63
B14: Julho/2026 | C14: 66.39 | D14: 51
B15: Agosto/2026 | C15: 61.5 | D15: 46
B16: Setembro/2026 | C16: 121.44 | D16: 107
B17: Outubro/2026 | C17: 140.54 | D17: 129

Sheet HISTORICO
B4: APARTAMENTO 502
B5: Ano | C5: Total em dinheiro (R$) | D5: Total em consumo (kWh)
B6: 2017 | C6: ='2017'!C18 -> 199.43 | D6: ='2017'!D18 -> 325
B7: 2018 | C7: ='2018'!C18 -> 1523.69 | D7: ='2018'!D18 -> 1964
B8: 2019 | C8: ='2019'!C18 -> 2296.2 | D8: ='2019'!D18 -> 2765
B9: 2020 | C9: ='2020'!C18 -> 858.39 | D9: ='2020'!D18 -> 1412
B10: 2021 | C10: ='2021'!C18 -> 1244.31 | D10: ='2021'!D18 -> 1404
B11: 2022 | C11: 1702.77 | D11: 1959
B12: 2023 | C12: ='2023'!C18 -> 1845.33 | D12: ='2023'!D18 -> 2209
B13: 2024 | C13: ='2024'!C18 -> 1703.54 | D13: ='2024'!D18 -> 1968
B14: 2025 | C14: ='2025'!C18 -> 2021.47 | D14: ='2025'!D18 -> 2097
