Workbook

Sheet 2019
B4: RADIO FEDERAL
B5: Mês | C5: Fatura Total (R$) | D5: Consumo Ativo (kWh)
B6: Janeiro
B7: Fevereiro
B8: Março
B9: Abril | C9: 480.71 | D9: 602
B10: Maio | C10: 1030.62 | D10: 1302
B11: Junho | C11: 1140.53 | D11: 1440
B12: Julho | C12: 927.11 | D12: 1176
B13: Agosto | C13: 1031.8 | D13: 1244
B14: Setembro | C14: 1089.64 | D14: 1316
B15: Outubro | C15: 1095.34 | D15: 1322
B16: Novembro | C16: 1162.61 | D16: 1446
B17: Dezembro | C17: 947.86 | D17: 1244
B18: Total | C18: =SUM(C8:C17) -> 8906.22 | D18: =SUM(D8:D17) -> 11092

Sheet 2020
B4: RADIO FEDERAL
B5: Mês | C5: Fatura Total (R$) | D5: Consumo Ativo (kWh)
B6: Janeiro | C6: 1056.45 | D6: 1365
B7: Fevereiro | C7: 991.43 | D7: 1293
B8: Março | C8: 1019.72 | D8: 1374
B9: Abril | C9: 919.03 | D9: 1190
B10: Maio | C10: 950.66 | D10: 1276
B11: Junho | C11: 1016.99 | D11: 1413
B12: Julho | C12: 534.56 | D12: 743
B13: Agosto | C13: 505.61 | D13: 695
B14: Setembro | C14: 615.4 | D14: 848
B15: Outubro | C15: 519.01 | D15: 699
B16: Novembro | C16: 379.27 | D16: 509
B17: Dezembro | C17: 868.76 | D17: 1054
B18: Total | C18: =SUM(C6:C17) -> 9376.89 | D18: =SUM(D6:D17) -> 12459

Sheet 2021
B4: RADIO FEDERAL
B5: Mês | C5: Fatura Total (R$) | D5: Consumo Ativo (kWh)
B6: Janeiro | C6: 86.89 | D6: 100
B7: Fevereiro | C7: 563.67 | D7: 675
B8: Março | C8: 1181.07 | D8: 1442
B9: Abril | C9: 1122.35 | D9: 1388
B10: Maio | C10: 1219.03 | D10: 1532
B11: Junho | C11: 1192.17 | D11: 1444
B12: Julho | C12: 1336.25 | D12: 1564
B13: Agosto | C13: 1535.85 | D13: 1706
B14: Setembro | C14: 1432.84 | D14: 1487
B15: Outubro | C15: 604.16 | D15: 601
B16: Novembro | C16: 635.95 | D16: 654
B17: Dezembro | C17: 411.68 | D17: 373
B18: Total | C18: =SUM(C6:C17) -> 11321.91 | D18: =SUM(D6:D17) -> 12966

Sheet 2022
B4: RADIO FEDERAL
B5: Mês | C5: Fatura Total (R$) | D5: Consumo Ativo (kWh)
B6: Janeiro | C6: 563.42 | D6: =246+279 -> 525
B7: Fevereiro | C7: 493.24 | D7: 466
B8: Março | C8: 435.25 | D8: 420
B9: Abril | C9: 532.55 | D9: 496
B10: Maio | C10: 477.71 | D10: 551
B11: Junho | C11: 508.75 | D11: 587
B12: Julho | C12: 549.33 | D12: 691
B13: Agosto | C13: 559.46 | D13: 727
B14: Setembro | C14: 484.31 | D14: 632
B15: Outubro | C15: 542.98 | D15: 772
B16: Novembro | C16: 406.29 | D16: 566
B17: Dezembro | C17: 449.78 | D17: 605
B18: Total | C18: =SUM(C6:C17) -> 6003.07 | D18: =SUM(D6:D17) -> 7038

Sheet 2023
B4: RADIO FEDERAL
B5: Mês | C5: Fatura Total (R$) | D5: Consumo Ativo (kWh)
B6: Janeiro | C6: 507.63 | D6: 663
B7: Fevereiro | C7: 515.17 | D7: 613
B8: Março | C8: 460.63 | D8: 596
B9: Abril | C9: 419.5 | D9: 529
B10: Maio | C10: 227.22 | D10: 547
B11: Junho | C11: 215.45 | D11: 539
B12: Julho | C12: 194.88 | D12: 512
B13: Agosto | C13: 391.26 | D13: 772
B14: Setembro | C14: 0 | D14: 240
B15: Outubro | C15: 880.93 | D15: 1429
B16: Novembro | C16: 554.07 | D16: 964
B17: Dezembro | C17: 2130 | D17: 2700
B18: Total | C18: =SUM(C6:C17) -> 6496.74 | D18: =SUM(D6:D17) -> 10104

Sheet 2024
B4: RADIO FEDERAL
B5: Mês | C5: Fatura Total (R$) | D5: Consumo Ativo (kWh)
B6: Janeiro | C6: 5065.84 | D6: 6539
B7: Fevereiro | C7: 5592 | D7: 7383
B8: Março | C8: 7799.05 | D8: 10977
B9: Abril | C9: 5451.14 | D9: 7159
B10: Maio | C10: 2544.27 | D10: 3313
B11: Junho | C11: 10233.45 | D11: 13454
B12: Julho | C12: 88.72 | D12: 100
B13: Agosto | C13: 6475.01 | D13: 8111
B14: Setembro | C14: 2924.74 | D14: 3578
B15: Outubro | C15: 8429.53 | D15: 8752
B16: Novembro | C16: 6777.06 | D16: 7080
B17: Dezembro | C17: 4373.23 | D17: 4249
B18: Total | C18: =SUM(C6:C17) -> 65754.04 | D18: =SUM(D6:D17) -> 80695

Sheet 2025
B4: RADIO FEDERAL
B5: Mês | C5: Fatura Total (R$) | D5: Consumo Ativo (kWh)
B6: Janeiro | C6: 5267.21 | D6: 5402
B7: Fevereiro | C7: 5881.41 | D7: 6159
B8: Março | C8: 4373.23 | D8: 4249
B9: Abril | C9: 5267.21 | D9: 5402
B10: Maio | C10: 5881.41 | D10: 6159
B11: Junho | C11: 4403.34 | D11: 5174
B12: Julho | C12: 5412.26 | D12: 6233
B13: Agosto | C13: 4130.21 | D13: 4850
B14: Setembro | C14: 4408.08 | D14: 4909
B15: Outubro | C15: 4971.6 | D15: 5546
B16: Novembro | C16: 5325.72 | D16: 6108
B17: Dezembro | C17: 5319.64 | D17: 5471
B18: Total | C18: =SUM(C6:C17) -> 60641.32 | D18: =SUM(D6:D17) -> 65662

Sheet 2026
B4: RADIO FEDERAL
B5: Mês | C5: Fatura Total (R$) | D5: Consumo Ativo (kWh)
B6: Janeiro | C6: 7200.04 | D6: 7173
B7: Fevereiro | C7: 4602.86 | D7: 4776
B8: Março | C8: 5282.59 | D8: 5411
B9: Abril | C9: 5082.17 | D9: 5255
B10: Maio | C10: 7410.51 | D10: 7537
B11: Junho | C11: 5929.01 | D11: 5704
B12: Julho | C12: 5599.72 | D12: 5704
B13: Agosto | C13: 114.39 | D13: 100
B14: Setembro
B15: Outubro
B16: Novembro
B17: Dezembro
B18: Total | C18: =SUM(C6:C17) -> 41221.29 | D18: =SUM(D6:D17) -> 41660

Sheet GRAFICO
B4: RADIO FEDERAL
B5: Mês | C5: Fatura Total (R$) | D5: Consumo Ativo (kWh)
B6: Set/2026 | C6: 4408.08 | D6: 4909
B7: Out/2026 | C7: 4971.6 | D7: 5546
B8: Nov/2026 | C8: 5325.72 | D8: 6108
B9: Dez/2026 | C9: 5319.64 | D9: 5471
B10: Jan/2026 | C10: 7200.04 | D10: 7173
B11: Fev/2026 | C11: 4602.86 | D11: 4776
B12: Mar/2026 | C12: 5282.59 | D12: 5411
B13: Abr/2026 | C13: 5082.17 | D13: 5255
B14: Mai/2026 | C14: 7410.51 | D14: 7537
B15: Jun/2026 | C15: 5929.01 | D15: 5704
B16: Jul/2026 | C16: 5599.72 | D16: 5704
B17: Ago/2026 | C17: 114.39 | D17: 100

Sheet HISTORICO
B4: RADIO FEDERAL
B5: Ano | C5: Total em dinheiro (R$) | D5: Total em consumo (kWh)
B6: 2004
B7: 2005
B8: 2006
B9: 2007
B10: 2008
B11: 2009
B12: 2010 | C12: 0 | D12: 0
B13: 2011 | C13: 0 | D13: 0
B14: 2012 | C14: 0 | D14: 0
B15: 2013 | C15: 0 | D15: 0
B16: 2014 | C16: 0 | D16: 0
B17: 2015 | C17: 0 | D17: 0
B18: 2016 | C18: 0 | D18: 0
B19: 2017 | C19: 0 | D19: 0
B20: 2018 | C20: 0 | D20: 0
B21: 2019 | C21: ='2019'!C18 -> 8906.22 | D21: ='2019'!D18 -> 11092
B22: 2020 | C22: ='2020'!C18 -> 9376.89 | D22: ='2020'!D18 -> 12459
B23: 2021 | C23: ='2021'!C18 -> 11321.91 | D23: ='2021'!D18 -> 12966
B24: 2022 | C24: 6003.07 | D24: 7038
B25: 2023 | C25: 6496.74 | D25: 10104
B26: 2024 | C26: 65754.04 | D26: 80695
B27: 2025 | C27: 60641.32 | D27: 65662
