Workbook

Sheet 2019
B4: MUSEU CARLOS RITTER
B5: Mês | C5: Fatura Total (R$) | D5: Consumo Ativo (kWh)
B6: Janeiro
B7: Fevereiro
B8: Março
B9: Abril | C9: 297.83 | D9: 373
B10: Maio | C10: 335.16 | D10: 423
B11: Junho | C11: 354.7 | D11: 444
B12: Julho | C12: 374.76 | D12: 474
B13: Agosto | C13: 521.42 | D13: 633
B14: Setembro | C14: 503.43 | D14: 608
B15: Outubro | C15: 364.86 | D15: 441
B16: Novembro | C16: 454.86 | D16: 565
B17: Dezembro | C17: 383.97 | D17: 506
B18: Total | C18: =SUM(C6:C17) -> 3590.99 | D18: =SUM(D6:D17) -> 4467

Sheet 2020
B4: MUSEU CARLOS RITTER
B5: Mês | C5: Fatura Total (R$) | D5: Consumo Ativo (kWh)
B6: Janeiro | C6: 392.39 | D6: 507
B7: Fevereiro | C7: 658.06 | D7: 859
B8: Março | C8: 908.41 | D8: 1224
B9: Abril | C9: 454.1 | D9: 588
B10: Maio | C10: 451.47 | D10: 606
B11: Junho | C11: 1057.28 | D11: 1469
B12: Julho | C12: 600.01 | D12: 834
B13: Agosto | C13: 631.47 | D13: 868
B14: Setembro | C14: 552.27 | D14: 761
B15: Outubro | C15: 481.81 | D15: 643
B16: Novembro | C16: 491.79 | D16: 660
B17: Dezembro | C17: 507.71 | D17: 616
B18: Total | C18: =SUM(C6:C17) -> 7186.77 | D18: =SUM(D6:D17) -> 9635

Sheet 2021
B4: MUSEU CARLOS RITTER
B5: Mês | C5: Fatura Total (R$) | D5: Consumo Ativo (kWh)
B6: Janeiro | C6: 697.86 | D6: 803
B7: Fevereiro | C7: 269.75 | D7: 320
B8: Março | C8: 393.96 | D8: 481
B9: Abril | C9: 323.41 | D9: 397
B10: Maio | C10: 560.95 | D10: 705
B11: Junho | C11: 609.27 | D11: 738
B12: Julho | C12: 578.41 | D12: 677
B13: Agosto | C13: 211.53 | D13: 235
B14: Setembro | C14: 588.74 | D14: 611
B15: Outubro | C15: 571.99 | D15: 569
B16: Novembro | C16: 540.64 | D16: 556
B17: Dezembro | C17: 576.16 | D17: 522
B18: Total | C18: =SUM(C6:C17) -> 5922.67 | D18: =SUM(D6:D17) -> 6614

Sheet 2022
B4: MUSEU CARLOS RITTER
B5: Mês | C5: Fatura Total (R$) | D5: Consumo Ativo (kWh)
B6: Janeiro | C6: 743.76 | D6: =325+368 -> 693
B7: Fevereiro | C7: 744.13 | D7: 704
B8: Março | C8: 668.44 | D8: 645
B9: Abril | C9: 750.93 | D9: 701
B10: Maio | C10: 606.19 | D10: 703
B11: Junho | C11: 795.53 | D11: 926
B12: Julho | C12: 809 | D12: 1025
B13: Agosto | C13: 961.46 | D13: 1261
B14: Setembro | C14: 882.51 | D14: 1165
B15: Outubro | C15: 844.56 | D15: 1211
B16: Novembro | C16: 854.02 | D16: 1209
B17: Dezembro | C17: 1028.46 | D17: 1405
B18: Total | C18: =SUM(C6:C17) -> 9688.99 | D18: =SUM(D6:D17) -> 11648

Sheet 2023
B4: MUSEU CARLOS RITTER
B5: Mês | C5: Fatura Total (R$) | D5: Consumo Ativo (kWh)
B6: Janeiro | C6: 928 | D6: 1231
B7: Fevereiro | C7: 567.22 | D7: 663
B8: Março | C8: 921.4 | D8: 1134
B9: Abril | C9: 742.9 | D9: 949
B10: Maio | C10: 555.26 | D10: 706
B11: Junho | C11: 621.52 | D11: 803
B12: Julho | C12: 819.43 | D12: 1064
B13: Agosto | C13: 595.47 | D13: 770
B14: Setembro | C14: 790.75 | D14: 1026
B15: Outubro | C15: 782.75 | D15: 1014
B16: Novembro | C16: 621.74 | D16: 786
B17: Dezembro | C17: 542.58 | D17: 677
B18: Total | C18: =SUM(C6:C17) -> 8489.02 | D18: =SUM(D6:D17) -> 10823

Sheet 2024
B4: MUSEU CARLOS RITTER
B5: Mês | C5: Fatura Total (R$) | D5: Consumo Ativo (kWh)
B6: Janeiro | C6: 597.2 | D6: 757
B7: Fevereiro | C7: 751.29 | D7: 978
B8: Março | C8: 825.22 | D8: 1082
B9: Abril | C9: 566.75 | D9: 730
B10: Maio | C10: 674.03 | D10: 866
B11: Junho | C11: 485.46 | D11: 623
B12: Julho | C12: 669.35 | D12: 864
B13: Agosto | C13: 1441.75 | D13: 1798
B14: Setembro | C14: 847.3 | D14: 1021
B15: Outubro | C15: 690.9 | D15: 800
B16: Novembro | C16: 560.62 | D16: 679
B17: Dezembro | C17: 355.52 | D17: 424
B18: Total | C18: =SUM(C6:C17) -> 8465.39 | D18: =SUM(D6:D17) -> 10622

Sheet 2025
B4: MUSEU CARLOS RITTER
B5: Mês | C5: Fatura Total (R$) | D5: Consumo Ativo (kWh)
B6: Janeiro | C6: 247.32 | D6: 285
B7: Fevereiro | C7: 810.2 | D7: 1003
B8: Março | C8: 790.29 | D8: 978
B9: Abril | C9: 523.42 | D9: 607
B10: Maio | C10: 555.76 | D10: 654
B11: Junho | C11: 837.99 | D11: 970
B12: Julho | C12: 1226.43 | D12: 1417
B13: Agosto | C13: 1064.49 | D13: 1234
B14: Setembro | C14: 1233.83 | D14: 1361
B15: Outubro | C15: 237.83 | D15: 251
B16: Novembro | C16: 576.81 | D16: 647
B17: Dezembro | C17: 685.71 | D17: 687
B18: Total | C18: =SUM(C6:C17) -> 8790.08 | D18: =SUM(D6:D17) -> 10094

Sheet 2026
B4: MUSEU CARLOS RITTER
B5: Mês | C5: Fatura Total (R$) | D5: Consumo Ativo (kWh)
B6: Janeiro | C6: 773.71 | D6: 758
B7: Fevereiro | C7: 912.91 | D7: 934
B8: Março | C8: 906.44 | D8: 915
B9: Abril | C9: 789.98 | D9: 803
B10: Maio | C10: 814.87 | D10: 813
B11: Junho | C11: 1040.59 | D11: 988
B12: Julho | C12: 1106.87 | D12: 1114
B13: Agosto | C13: 866.52 | D13: 868
B14: Setembro
B15: Outubro
B16: Novembro
B17: Dezembro
B18: Total | C18: =SUM(C6:C17) -> 7211.89 | D18: =SUM(D6:D17) -> 7193

Sheet GRAFICO
B4: MUSEU CARLOS RITTER
B5: Mês | C5: Fatura Total (R$) | D5: Consumo Ativo (kWh)
B6: Set/2026 | C6: 1233.83 | D6: 1361
B7: Out/2026 | C7: 237.83 | D7: 251
B8: Nov/2026 | C8: 576.81 | D8: 647
B9: Dez/2026 | C9: 685.71 | D9: 687
B10: Jan/2026 | C10: 773.71 | D10: 758
B11: Fev/2026 | C11: 912.91 | D11: 934
B12: Mar/2026 | C12: 906.44 | D12: 915
B13: Abr/2026 | C13: 789.98 | D13: 803
B14: Mai/2026 | C14: 814.87 | D14: 813
B15: Jun/2026 | C15: 1040.59 | D15: 988
B16: Jul/2026 | C16: 1106.87 | D16: 1114
B17: Ago/2026 | C17: 866.52 | D17: 868

Sheet HISTORICO
B4: MUSEU CARLOS RITTER
B5: Ano | C5: Total em dinheiro (R$) | D5: Total em consumo (kWh)
B6: 2011
B7: 2012
B8: 2013
B9: 2014
B10: 2015
B11: 2016
B12: 2017
B13: 2018
B14: 2019 | C14: ='2019'!C18 -> 3590.99 | D14: ='2019'!D18 -> 4467
B15: 2020 | C15: ='2020'!C18 -> 7186.77 | D15: ='2020'!D18 -> 9635
B16: 2021 | C16: ='2021'!C$18 -> 5922.67 | D16: ='2021'!D$18 -> 6614
B17: 2022 | C17: ='2022'!C$18 -> 9688.99 | D17: ='2022'!D$18 -> 11648
B18: 2023 | C18: ='2023'!C$18 -> 8489.02 | D18: ='2023'!D$18 -> 10823
B19: 2024 | C19: 8465.39 | D19: 10622
B20: 2025 | C20: 8790.08 | D20: 10094
