Workbook

Sheet 2012
B4: Fazenda da Palma 1
B5: Mês | C5: Fatura Total | D5: Consumo Ativo (kWh)
B6: Janeiro | C6: 2478.42 | D6: 3383
B7: Fevereiro | C7: 2463.47 | D7: 3188
B8: Março | C8: 2502.85 | D8: 3277
B9: Abril | C9: 2699.57 | D9: 3823
B10: Maio | C10: 2700.97 | D10: 3893
B11: Junho | C11: 2789.28 | D11: 4443
B12: Julho | C12: 2739.96 | D12: 4755
B13: Agosto | C13: 2786.92 | D13: 5028
B14: Setembro | C14: 2796.02 | D14: 4601
B15: Outubro | C15: 2548.65 | D15: 3718
B16: Novembro | C16: 2513.69 | D16: 3765
B17: Dezembro | C17: 2128.28 | D17: 3126
B18: Total | C18: =SUM(C6:C17) -> 31148.08 | D18: =SUM(D6:D17) -> 47000

Sheet 2013
B4: Fazenda da Palma 1
B5: Mês | C5: Fatura Total | D5: Consumo Ativo (kWh)
B6: Janeiro | C6: 2391.35 | D6: 3619
B7: Fevereiro | C7: 1945.59 | D7: 3076
B8: Março | C8: 1702.4 | D8: 3281
B9: Abril | C9: 1929.72 | D9: 3720
B10: Maio | C10: 1891.1 | D10: 3912
B11: Junho | C11: 2154.06 | D11: 5245
B12: Julho | C12: 2054.2 | D12: 4979
B13: Agosto | C13: 2215.45 | D13: 5508
B14: Setembro | C14: 2266.88 | D14: 5820
B15: Outubro | C15: 2140.96 | D15: 5302
B16: Novembro | C16: 2368.51 | D16: 5770
B17: Dezembro | C17: 2334.62 | D17: 5162
B18: Total | C18: =SUM(C6:C17) -> 25394.84 | D18: =SUM(D6:D17) -> 55394

Sheet 2014
B4: Fazenda da Palma 1
B5: Mês | C5: Fatura Total | D5: Consumo Ativo (kWh)
B6: Janeiro | C6: 1198.8 | D6: 4048
B7: Fevereiro | C7: 1305.42 | D7: 5113
B8: Março | C8: 1151.68 | D8: 4612
B9: Abril | C9: 963.21 | D9: 4019
B10: Maio | C10: 1082.12 | D10: 4427
B11: Junho | C11: 1209.75 | D11: 5313
B12: Julho | C12: 1349.42 | D12: 5034
B13: Agosto | C13: 1352 | D13: 5651
B14: Setembro | C14: 633.37 | D14: 4307
B15: Outubro | C15: 956.65 | D15: 3469
B16: Novembro | C16: 948.07 | D16: 3272
B17: Dezembro | C17: 1032.22 | D17: 3534
B18: Total | C18: =SUM(C6:C17) -> 13182.71 | D18: =SUM(D6:D17) -> 52799

Sheet 2015
B4: Fazenda da Palma 1
B5: Mês | C5: Fatura Total | D5: Consumo Ativo (kWh)
B6: Janeiro | C6: 2037.11 | D6: 3768
B7: Fevereiro | C7: 1269.15 | D7: 3518
B8: Março | C8: 930.93 | D8: 3464
B9: Abril | C9: 2078.82 | D9: 3400
B10: Maio | C10: 1492.83 | D10: 3105
B11: Junho | C11: 1415.68 | D11: 3114
B12: Julho | C12: 1925.13 | D12: 4388
B13: Agosto | C13: 2323.97 | D13: 5441
B14: Setembro | C14: 2086.78 | D14: 4740
B15: Outubro | C15: 1769.96 | D15: 4195
B16: Novembro | C16: 1914.46 | D16: 4251
B17: Dezembro | C17: 1658.9 | D17: 3641
B18: Total | C18: =SUM(C6:C17) -> 20903.72 | D18: =SUM(D6:D17) -> 47025

Sheet 2016
B4: Fazenda da Palma 1
B5: Mês | C5: Fatura Total (R$) | D5: Consumo Ativo (kWh)
B6: Janeiro | C6: 2101.99 | D6: 3036
B7: Fevereiro | C7: 1415.68 | D7: 2925
B8: Março | C8: 1129.42 | D8: 3637
B9: Abril | C9: 1501.67 | D9: 3219
B10: Maio | C10: 1778.7 | D10: 4322
B11: Junho | C11: 1551.57 | D11: 4056
B12: Julho | C12: 1761.64 | D12: 4467
B13: Agosto | C13: 1720.6 | D13: 4221
B14: Setembro | C14: 1903.76 | D14: 4634
B15: Outubro | C15: 1624.77 | D15: 3832
B16: Novembro | C16: 1939.76 | D16: 4922
B17: Dezembro | C17: 1567.61 | D17: 4212
B18: Total | C18: =SUM(C6:C17) -> 19997.17 | D18: =SUM(D6:D17) -> 47483

Sheet 2017
B4: Fazenda da Palma 1
B5: Mês | C5: Fatura Total (R$) | D5: Consumo Ativo (kWh)
B6: Janeiro | C6: 1500.62 | D6: 4340
B7: Fevereiro | C7: 1844.32 | D7: 4433.08
B8: Março | C8: 1599.98 | D8: 3570
B9: Abril | C9: 1436.11 | D9: 4057
B10: Maio | C10: 1726.52 | D10: 4061
B11: Junho | C11: 1406.2 | D11: 3911
B12: Julho | C12: 1955.66 | D12: 5322
B13: Agosto | C13: 1529.26 | D13: 3820
B14: Setembro | C14: 1454.67 | D14: 3834
B15: Outubro | C15: 1241.98 | D15: 3511
B16: Novembro | C16: 1305.31 | D16: 3224
B17: Dezembro | C17: 1350.46 | D17: 3329
B18: Total | C18: =SUM(C6:C17) -> 18351.09 | D18: =SUM(D6:D17) -> 47412.08

Sheet 2018
B4: Fazenda da Palma 1
B5: Mês | C5: Fatura Total (R$) | D5: Consumo Ativo (kWh)
B6: Janeiro | C6: 1831.31 | D6: 4329
B7: Fevereiro | C7: 2087 | D7: 4678
B8: Março | C8: 1891.16 | D8: 4200
B9: Abril | C9: 3053.04 | D9: 4980
B10: Maio | C10: 2215.81 | D10: 5367
B11: Junho | C11: 2771.53 | D11: 5517
B12: Julho | C12: 2937.89 | D12: 5890
B13: Agosto | C13: 3133.78 | D13: 6150
B14: Setembro | C14: 2716.35 | D14: 5483
B15: Outubro | C15: 1962.5 | D15: 3556
B16: Novembro | C16: 2091.66 | D16: 4281
B17: Dezembro | C17: 1886.13 | D17: =3687+329 -> 4016
B18: Total | C18: =SUM(C6:C17) -> 28578.16 | D18: =SUM(D6:D17) -> 58447

Sheet 2019
B4: Fazenda da Palma 1
B5: Mês | C5: Fatura Total (R$) | D5: Consumo Ativo (kWh)
B6: Janeiro | C6: 1886.36 | D6: =3562+285 -> 3847
B7: Fevereiro | C7: 1523.25 | D7: =3902+350 -> 4252
B8: Março | C8: 1888.32 | D8: =292+3344 -> 3636
B9: Abril | C9: 2766.32 | D9: =353+3802 -> 4155
B10: Maio | C10: 2048.47 | D10: =320+3842 -> 4162
B11: Junho | C11: 2245.47 | D11: =4103+400 -> 4503
B12: Julho | C12: 4189.99 | D12: =6139+840 -> 6979
B13: Agosto | C13: 4363.3 | D13: =6384+895 -> 7279
B14: Setembro | C14: 7497.31 | D14: =9354+1722 -> 11076
B15: Outubro | C15: 6797.85 | D15: =8397+1537 -> 9934
B16: Novembro | C16: 6256.95 | D16: 9768
B17: Dezembro | C17: 5044.6 | D17: 8217
B18: Total | C18: =SUM(C6:C17) -> 46508.19 | D18: =SUM(D6:D17) -> 77808

Sheet 2020
B4: Fazenda da Palma 1
B5: Mês | C5: Fatura Total (R$) | D5: Consumo Ativo (kWh)
B6: Janeiro | C6: 3785.37 | D6: =6367+748 -> 7115
B7: Fevereiro | C7: 1610.8 | D7: =4202+456 -> 4658
B8: Março | C8: 2405.84 | D8: =4123+447 -> 4570
B9: Abril | C9: 2861.16 | D9: =4536+630 -> 5166
B10: Maio | C10: 1825.56 | D10: =3384+358 -> 3742
B11: Junho | C11: 1643.71 | D11: =2878+365 -> 3243
B12: Julho | C12: 1736.38 | D12: =2993+380 -> 3373
B13: Agosto | C13: 2045.28 | D13: =3459+486 -> 3945
B14: Setembro | C14: 1830.06 | D14: =3268+403 -> 3671
B15: Outubro | C15: 825.53 | D15: =2528+336 -> 2864
B16: Novembro | C16: 828.69 | D16: =2081+221 -> 2302
B17: Dezembro | C17: 3621.53 | D17: =2638+226 -> 2864
B18: Total | C18: =SUM(C6:C17) -> 25019.91 | D18: =SUM(D6:D17) -> 47513

Sheet 2021
B4: Fazenda da Palma 1
B5: Mês | C5: Fatura Total (R$) | D5: Consumo Ativo (kWh)
B6: Janeiro | C6: 1629.96 | D6: =2841+259 -> 3100
B7: Fevereiro | C7: 615.36 | D7: =3132+288 -> 3420
B8: Março | C8: 1726.75 | D8: =282+2831 -> 3113
B9: Abril | C9: 1747.68 | D9: =316+2810 -> 3126
B10: Maio | C10: 1631.91 | D10: =306+2575 -> 2881
B11: Junho | C11: 1963.76 | D11: =387+2957 -> 3344
B12: Julho | C12: 1963.88 | D12: =382+2958 -> 3340
B13: Agosto | C13: 2224.76 | D13: =407+2937 -> 3344
B14: Setembro | C14: 2274.97 | D14: =399+2945 -> 3344
B15: Outubro | C15: 2043.29 | D15: =281+2441 -> 2722
B16: Novembro | C16: 2037.45 | D16: =282+2605 -> 2887
B17: Dezembro | C17: 4680.33 | D17: =234+2390 -> 2624
B18: Total | C18: =SUM(C6:C17) -> 24540.1 | D18: =SUM(D6:D17) -> 37245

Sheet 2022
B4: Fazenda da Palma 1
B5: Mês | C5: Fatura Total (R$) | D5: Consumo Ativo (kWh)
B6: Janeiro | C6: 2249.35 | D6: =2607+270 -> 2877
B7: Fevereiro | C7: 2731.25 | D7: =3200+327 -> 3527
B8: Março | C8: 2606.31 | D8: =2935+266 -> 3201
B9: Abril | C9: 5011.15 | D9: =776+5059 -> 5835
B10: Maio | C10: 4812.43 | D10: =835+5246 -> 6081
B11: Junho | C11: 6673.03 | D11: =1518+7790 -> 9308
B12: Julho | C12: 6936.37 | D12: =1510+8869 -> 10379
B13: Agosto | C13: 3734.09 | D13: =653+5257 -> 5910
B14: Setembro | C14: 5948.25 | D14: =1302+7388 -> 8690
B15: Outubro | C15: 5824.16 | D15: 7521
B16: Novembro | C16: 4781.18 | D16: 6125
B17: Dezembro | C17: 6937.31 | D17: 4864
B18: Total | C18: =SUM(C6:C17) -> 58244.88 | D18: =SUM(D6:D17) -> 74318

Sheet 2023
B4: Fazenda da Palma 1
B5: Mês | C5: Fatura Total (R$) | D5: Consumo Ativo (kWh)
B6: Janeiro | C6: 2762.19 | D6: 3759
B7: Fevereiro | C7: 2148.23 | D7: 3262
B8: Março | C8: 3168.28 | D8: 4429
B9: Abril | C9: 4046.05 | D9: 5868
B10: Maio | C10: 4373.52 | D10: 6138
B11: Junho | C11: 3531.23 | D11: 7106
B12: Julho | C12: 7031.99 | D12: 9486
B13: Agosto | C13: 3290.09 | D13: 6010
B14: Setembro | C14: 6351.56 | D14: 8118
B15: Outubro | C15: 7964.11 | D15: 11269
B16: Novembro | C16: 4914.79 | D16: 6611
B17: Dezembro | C17: 9268.9 | D17: 8574
B18: Total | C18: =SUM(C6:C17) -> 58850.94 | D18: =SUM(D6:D17) -> 80630

Sheet 2024
B4: Fazenda da Palma 1
B5: Mês | C5: Fatura Total (R$) | D5: Consumo Ativo (kWh)
B6: Janeiro | C6: 0 | D6: 5856
B7: Fevereiro | C7: 2934.67 | D7: 3593
B8: Março | C8: 5306.68 | D8: 7514
B9: Abril | C9: 4663.31 | D9: 6513
B10: Maio | C10: 3374.73 | D10: 4875
B11: Junho | C11: 3150.54 | D11: 4711
B12: Julho | C12: 2472.96 | D12: 3927
B13: Agosto | C13: 9790.06 | D13: 14101
B14: Setembro | C14: 10599 | D14: 15201
B15: Outubro | C15: 8733.31 | D15: 11533
B16: Novembro | C16: 5967.28 | D16: 7920
B17: Dezembro | C17: 5076.29 | D17: 5669
B18: Total | C18: =SUM(C6:C17) -> 62068.83 | D18: =SUM(D6:D17) -> 91413

Sheet 2025
B4: Fazenda da Palma 1
B5: Mês | C5: Fatura Total (R$) | D5: Consumo Ativo (kWh)
B6: Janeiro | C6: 3571.31 | D6: 4802
B7: Fevereiro | C7: 0 | D7: 2993
B8: Março | C8: 3292.24 | D8: 5139
B9: Abril | C9: 4198.07 | D9: 5963
B10: Maio | C10: 5426.64 | D10: 6769
B11: Junho | C11: 7290.6 | D11: 9614
B12: Julho | C12: 10723.75 | D12: 14841
B13: Agosto | C13: 11828.13 | D13: 16675
B14: Setembro | C14: 11307.18 | D14: 15634
B15: Outubro | C15: 9411.02 | D15: 11965
B16: Novembro | C16: 9086.07 | D16: 11189
B17: Dezembro | C17: 10236.16 | D17: 9379
B18: Total | C18: =SUM(C6:C17) -> 86371.17 | D18: =SUM(D6:D17) -> 114963

Sheet GRAFICO
B4: Fazenda da Palma 1
B5: Mês | C5: Fatura Total (R$) | D5: Consumo Ativo (kWh)
B6: Agosto/2025 | C6: 11828.13 | D6: 16675
B7: Setembro/2025 | C7: 11307.18 | D7: 15634
B8: Outubro/2025 | C8: 9411.02 | D8: 11965
B9: Novembro/2025 | C9: 9086.07 | D9: 11189
B10: Dezembro/2025 | C10: 10236.16 | D10: 9379
B11: Janeiro/2026 | C11: 5945.88 | D11: 6401
B12: Fevereiro/2026 | C12: 2218.41 | D12: 6262
B13: Março/2026 | C13: 5437.65 | D13: 7623
B14: Abril/2026 | C14: 6355.91 | D14: 10058
B15: Maio/2026 | C15: 8530.73 | D15: 17615
B16: Junho/2026 | C16: 15260.75 | D16: 18791
B17: Julho/2026 | C17: 17304.14 | D17: 18934

Sheet HISTORICO
B5: Fazenda da Palma 1
B6: Ano | C6: Total em dinheiro (R$) | D6: Total em consumo (kWh)
B7: 2004 | C7: 32292.81 | D7: 108208
B8: 2005 | C8: 29138.69 | D8: 85011
B9: 2006 | C9: 30337.64 | D9: 73116
B10: 2007 | C10: 25675.95 | D10: 63613
B11: 2008 | C11: 24736.24 | D11: 49194
B12: 2009 | C12: 30168.65 | D12: 67779
B13: 2010 | C13: 28716.96 | D13: 63213
B14: 2011 | C14: 33914.04 | D14: 70526
B15: 2012 | C15: ='2012'!C18 -> 31148.08 | D15: ='2012'!D18 -> 47000
B16: 2013 | C16: ='2013'!C18 -> 25394.84 | D16: ='2013'!D18 -> 55394
B17: 2014 | C17: ='2014'!C18 -> 13182.71 | D17: ='2014'!D18 -> 52799
B18: 2015 | C18: ='2015'!C18 -> 20903.72 | D18: ='2015'!D18 -> 47025
B19: 2016 | C19: ='2016'!C18 -> 19997.17 | D19: ='2016'!D18 -> 47483
B20: 2017 | C20: ='2017'!C18 -> 18351.09 | D20: ='2017'!D18 -> 47412.08
B21: 2018 | C21: ='2018'!C18 -> 28578.16 | D21: ='2018'!D18 -> 58447
B22: 2019 | C22: ='2019'!C18 -> 46508.19 | D22: ='2019'!D18 -> 77808
B23: 2020 | C23: ='2020'!C18 -> 25019.91 | D23: ='2020'!D18 -> 47513
B24: 2021 | C24: ='2021'!C18 -> 24540.1 | D24: ='2021'!D18 -> 37245
B25: 2022 | C25: 58244.88 | D25: 74318
B26: 2023 | C26: 58850.94 | D26: 80630
B27: 2024 | C27: 62068.83 | D27: 91413
B28: 2025 | C28: 86371.17 | D28: 114963
