Workbook

Sheet 2012
B4: FAURB
B5: Mês | C5: Fatura Total (R$) | D5: Consumo Ativo (kWh)
B6: Janeiro | C6: 5027.04 | D6: 6733
B7: Fevereiro | C7: 4912.59 | D7: 6013
B8: Março | C8: 11866.98 | D8: 13868
B9: Abril | C9: 10956.45 | D9: 13719
B10: Maio | C10: 6486.71 | D10: 12764
B11: Junho | C11: 6943.67 | D11: 12851
B12: Julho | C12: 5638.32 | D12: 10041
B13: Agosto | C13: 4762.49 | D13: 5760
B14: Setembro | C14: 5125.64 | D14: 6991
B15: Outubro | C15: 5915.84 | D15: 10822
B16: Novembro | C16: 12581.39 | D16: 13574
B17: Dezembro | C17: 13322.97 | D17: 18417
B18: Total | C18: =SUM(C6:C17) -> 93540.09 | D18: =SUM(D6:D17) -> 131553

Sheet 2013
B4: FAURB
B5: Mês | C5: Fatura Total (R$) | D5: Consumo Ativo (kWh)
B6: Janeiro | C6: 10526.14 | D6: 14020
B7: Fevereiro | C7: 9446.72 | D7: 19245
B8: Março | C8: 5845.6 | D8: 13322
B9: Abril | C9: 4519.3 | D9: 7245
B10: Maio | C10: 4699.06 | D10: 8963
B11: Junho | C11: 5218.12 | D11: 11414
B12: Julho | C12: 5296.82 | D12: 11874
B13: Agosto | C13: 6646.6 | D13: 17473
B14: Setembro | C14: 5171.77 | D14: 10774
B15: Outubro | C15: 4687.43 | D15: 8440
B16: Novembro | C16: 6294.34 | D16: 13409
B17: Dezembro | C17: 9781.03 | D17: 17268
B18: Total | C18: =SUM(C6:C17) -> 78132.93 | D18: =SUM(D6:D17) -> 153447

Sheet 2014
B4: FAURB
B5: Mês | C5: Fatura Total (R$) | D5: Consumo Ativo (kWh)
B6: Janeiro | C6: 10319.88 | D6: 17612
B7: Fevereiro | C7: 14716.58 | D7: 27962
B8: Março | C8: 4352.3 | D8: 8297
B9: Abril | C9: 6208.13 | D9: 13894
B10: Maio | C10: 5468.17 | D10: 11824
B11: Junho | C11: 5659.75 | D11: 12371
B12: Julho | C12: 5844.7 | D12: 13200
B13: Agosto | C13: 4685.19 | D13: 8587
B14: Setembro | C14: 4852.57 | D14: 9142
B15: Outubro | C15: 5325.86 | D15: 10701
B16: Novembro | C16: 6436.28 | D16: 12411
B17: Dezembro | C17: 8773.78 | D17: 17136
B18: Total | C18: =SUM(C6:C17) -> 82643.19 | D18: =SUM(D6:D17) -> 163137

Sheet 2015
B4: FAURB
B5: Mês | C5: Fatura Total (R$) | D5: Consumo Ativo (kWh)
B6: Janeiro | C6: 5514.98 | D6: 7441
B7: Fevereiro | C7: 5850.67 | D7: 7610
B8: Março | C8: 9832.59 | D8: 14239
B9: Abril | C9: 8709.21 | D9: 12716
B10: Maio | C10: 6687.08 | D10: 9287
B11: Junho | C11: 7382.7 | D11: 10501
B12: Julho | C12: 7068.59 | D12: 9631
B13: Agosto | C13: 5196.86 | D13: 6239
B14: Setembro | C14: 6679.04 | D14: 8519
B15: Outubro | C15: 6216.5 | D15: 7910
B16: Novembro | C16: 7176.85 | D16: 9216
B17: Dezembro | C17: 8773.78 | D17: 10505
B18: Total | C18: =SUM(C6:C17) -> 85088.85 | D18: =SUM(D6:D17) -> 113814

Sheet 2016
B4: FAURB
B5: Mês | C5: Fatura Total (R$) | D5: Consumo Ativo (kWh)
B6: Janeiro | C6: 5195.13 | D6: 5885
B7: Fevereiro | C7: 5469.29 | D7: 6395
B8: Março | C8: 7385.99 | D8: 9702
B9: Abril | C9: 9466.39 | D9: 12070
B10: Maio | C10: 7970.79 | D10: 10981
B11: Junho | C11: 7382.7 | D11: 11829
B12: Julho | C12: 8215.54 | D12: 11112
B13: Agosto | C13: 5650.9 | D13: 7521
B14: Setembro | C14: 7191.81 | D14: 9858
B15: Outubro | C15: 6027.64 | D15: 8143
B16: Novembro | C16: 4227.86 | D16: 5243
B17: Dezembro | C17: 4720.98 | D17: 6247
B18: Total | C18: =SUM(C6:C17) -> 78905.02 | D18: =SUM(D6:D17) -> 104986

Sheet 2017
B4: FAURB
B5: Mês | C5: Fatura Total (R$) | D5: Consumo Ativo (kWh)
B6: Janeiro | C6: 3904.05 | D6: 4503
B7: Fevereiro | C7: 6432.01 | D7: 8937
B8: Março | C8: 9275.59 | D8: 13651
B9: Abril | C9: 5861.37 | D9: 7816
B10: Maio | C10: 6154.2 | D10: 7611
B11: Junho | C11: 7780.52 | D11: 10892
B12: Julho | C12: 7534.16 | D12: 10592
B13: Agosto | C13: 8018.89 | D13: 10431
B14: Setembro | C14: 5553.96 | D14: 7065
B15: Outubro | C15: 6639.98 | D15: 8753
B16: Novembro | C16: 6202.17 | D16: 8461
B17: Dezembro | C17: 6544.07 | D17: 8333
B18: Total | C18: =SUM(C6:C17) -> 79900.97 | D18: =SUM(D6:D17) -> 107045

Sheet 2018
B4: FAURB
B5: Mês | C5: Fatura Total (R$) | D5: Consumo Ativo (kWh)
B6: Janeiro | C6: 6273.52 | D6: 6254
B7: Fevereiro | C7: 7800.13 | D7: 8418
B8: Março | C8: 11799.77 | D8: 11015
B9: Abril | C9: 12050.45 | D9: 10263
B10: Maio | C10: 11024.41 | D10: 11274
B11: Junho | C11: 11279.67 | D11: 10597
B12: Julho | C12: 11053.05 | D12: 12134
B13: Agosto | C13: 9989.17 | D13: 10964
B14: Setembro | C14: 8777.97 | D14: 9321
B15: Outubro | C15: 8732.7 | D15: 9506
B16: Novembro | C16: 10243.17 | D16: 10023
B17: Dezembro | C17: 12434.11 | D17: =11392+1220 -> 12612
B18: Total | C18: =SUM(C6:C17) -> 121458.12 | D18: =SUM(D6:D17) -> 122381

Sheet 2019
B4: FAURB
B5: Mês | C5: Fatura Total (R$) | D5: Consumo Ativo (kWh)
B6: Janeiro | C6: 5284.37 | D6: =5338+433 -> 5771
B7: Fevereiro | C7: 6365.38 | D7: =6553+423 -> 6976
B8: Março | C8: 9120.81 | D8: =897+8330 -> 9227
B9: Abril | C9: 11596.42 | D9: =1279+9297 -> 10576
B10: Maio | C10: 9249.14 | D10: =1268+9061 -> 10329
B11: Junho | C11: 9303.89 | D11: =1338+8938 -> 10276
B12: Julho | C12: 11049.54 | D12: =1591+10717 -> 12308
B13: Agosto | C13: 7392.68 | D13: =867+7169 -> 8036
B14: Setembro | C14: 9497.32 | D14: =9489+1171 -> 10660
B15: Outubro | C15: 7446.36 | D15: =6768+970 -> 7738
B16: Novembro | C16: 7912.85 | D16: 8572
B17: Dezembro | C17: 11346.92 | D17: 10961
B18: Total | C18: =SUM(C6:C17) -> 105565.68 | D18: =SUM(D6:D17) -> 111430

Sheet 2020
B4: FAURB
B5: Mês | C5: Fatura Total (R$) | D5: Consumo Ativo (kWh)
B6: Janeiro | C6: 5109.51 | D6: =5091+414 -> 5505
B7: Fevereiro | C7: 5117.97 | D7: =5335+385 -> 5720
B8: Março | C8: 7369.83 | D8: =6271+535 -> 6806
B9: Abril | C9: 3646.65 | D9: =2714+275 -> 2989
B10: Maio | C10: 3570.98 | D10: =2785+284 -> 3069
B11: Junho | C11: 3247.13 | D11: =2418+267 -> 2685
B12: Julho | C12: 3294.51 | D12: =2488+275 -> 2763
B13: Agosto | C13: 3362.13 | D13: =2443+299 -> 2742
B14: Setembro | C14: 3344.89 | D14: =2554+271 -> 2825
B15: Outubro | C15: 3500.03 | D15: =2545+294 -> 2839
B16: Novembro | C16: 1676.16 | D16: =1248+123 -> 1371
B17: Dezembro | C17: 2675.04 | D17: =2472+309 -> 2781
B18: Total | C18: =SUM(C6:C17) -> 45914.83 | D18: =SUM(D6:D17) -> 42095

Sheet 2021
B4: FAURB
B5: Mês | C5: Fatura Total (R$) | D5: Consumo Ativo (kWh)
B6: Janeiro | C6: 2571.08 | D6: =1892+1897 -> 3789
B7: Fevereiro | C7: 2546.52 | D7: =2348+226 -> 2574
B8: Março | C8: 2553.46 | D8: =2057+202 -> 2259
B9: Abril | C9: 2757.23 | D9: =264+2268 -> 2532
B10: Maio | C10: 2520.83 | D10: =248+2264 -> 2512
B11: Junho | C11: 2312.42 | D11: =230+2093 -> 2323
B12: Julho | C12: 2649.5 | D12: =252+2333 -> 2585
B13: Agosto | C13: 3210.51 | D13: =2633+293 -> 2926
B14: Setembro | C14: 3241.46 | D14: =282+2590 -> 2872
B15: Outubro | C15: 3671.69 | D15: =2439+250 -> 2689
B16: Novembro | C16: 3251.15 | D16: =216+2017 -> 2233
B17: Dezembro | C17: 3987.45 | D17: =294+2494 -> 2788
B18: Total | C18: =SUM(C6:C17) -> 35273.3 | D18: =SUM(D6:D17) -> 32082

Sheet 2022
B4: FAURB
B5: Mês | C5: Fatura Total (R$) | D5: Consumo Ativo (kWh)
B6: Janeiro | C6: 5227.36 | D6: =3477+398 -> 3875
B7: Fevereiro | C7: 4283.49 | D7: =3182+270 -> 3452
B8: Março | C8: 4185.7 | D8: =2904-249 -> 2655
B9: Abril | C9: 6323.56 | D9: =507+4734 -> 5241
B10: Maio | C10: 4815.08 | D10: =419+3802 -> 4221
B11: Junho | C11: 5499.32 | D11: =604+5040 -> 5644
B12: Julho | C12: 6572.28 | D12: =833+6847 -> 7680
B13: Agosto | C13: 5399.45 | D13: =516+5789 -> 6305
B14: Setembro | C14: 7829.86 | D14: 9566
B15: Outubro | C15: 5779.3 | D15: 6276
B16: Novembro | C16: 5423.72 | D16: 5716
B17: Dezembro | C17: 7042.43 | D17: 6668
B18: Total | C18: =SUM(C6:C17) -> 68381.55 | D18: =SUM(D6:D17) -> 67299

Sheet 2023
B4: FAURB
B5: Mês | C5: Fatura Total (R$) | D5: Consumo Ativo (kWh)
B6: Janeiro | C6: 5479.76 | D6: 5351
B7: Fevereiro | C7: 6316.3 | D7: 5116
B8: Março | C8: 12883.71 | D8: 9491
B9: Abril | C9: 16175.9 | D9: 14841
B10: Maio | C10: 6886.23 | D10: 7338
B11: Junho | C11: 6300.46 | D11: 7134
B12: Julho | C12: 7687.48 | D12: 8896
B13: Agosto | C13: 8040.96 | D13: 9141
B14: Setembro | C14: 8060.62 | D14: 9157
B15: Outubro | C15: 6368.73 | D15: 7047
B16: Novembro | C16: 5559.28 | D16: 5372
B17: Dezembro | C17: 7098.1 | D17: 7890
B18: Total | C18: =SUM(C6:C17) -> 96857.53 | D18: =SUM(D6:D17) -> 96774

Sheet 2024
B4: FAURB
B5: Mês | C5: Fatura Total (R$) | D5: Consumo Ativo (kWh)
B6: Janeiro | C6: 10239.38 | D6: 7595
B7: Fevereiro | C7: 7529.8 | D7: 5769
B8: Março | C8: 13246.68 | D8: 11913
B9: Abril | C9: 12912.11 | D9: 10078
B10: Maio | C10: 5908.23 | D10: 5593
B11: Junho | C11: 4250.44 | D11: 3289
B12: Julho | C12: 6234.77 | D12: 6230
B13: Agosto | C13: 10810.41 | D13: 11260
B14: Setembro | C14: 9177.92 | D14: 9818
B15: Outubro | C15: 7098.83 | D15: 6712
B16: Novembro | C16: 7873.76 | D16: 7611
B17: Dezembro | C17: 6148.29 | D17: 6161
B18: Total | C18: =SUM(C6:C17) -> 101430.62 | D18: =SUM(D6:D17) -> 92029

Sheet 2025
B4: FAURB
B5: Mês | C5: Fatura Total (R$) | D5: Consumo Ativo (kWh)
B6: Janeiro | C6: 7399.51 | D6: 7855
B7: Fevereiro | C7: 7744.71 | D7: 6395
B8: Março | C8: 15555.54 | D8: 13261
B9: Abril | C9: 9123.7 | D9: 8322
B10: Maio | C10: 5574.73 | D10: 4497
B11: Junho | C11: 6496.92 | D11: 5760
B12: Julho | C12: 8182.86 | D12: 7839
B13: Agosto | C13: 9708.32 | D13: 10158
B14: Setembro | C14: 7890.49 | D14: 7214
B15: Outubro | C15: 5622.59 | D15: 4355
B16: Novembro | C16: 6219.05 | D16: 5141
B17: Dezembro | C17: 6009.8 | D17: 4878
B18: Total | C18: =SUM(C6:C17) -> 95528.22 | D18: =SUM(D6:D17) -> 85675

Sheet Gráfico
B4: FAURB
B5: Mês | C5: Fatura Total (R$) | D5: Consumo Ativo (kWh)
B6: Agosto/2025 | C6: 9708.32 | D6: 10158
B7: Setembro/2025 | C7: 7890.49 | D7: 7214
B8: Outubro/2025 | C8: 5622.59 | D8: 4355
B9: Novembro/2025 | C9: 6219.05 | D9: 5141
B10: Dezembro/2025 | C10: 6009.8 | D10: 4878
B11: Janeiro/2026 | C11: 7281.83 | D11: 5974
B12: Fevereiro/2026 | C12: 4485.02 | D12: 7217
B13: Março/2026 | C13: 8099.9 | D13: 5109
B14: Abril/2026 | C14: 6428.42 | D14: 6338
B15: Maio/2026 | C15: 7576.14 | D15: 6764
B16: Junho/2026 | C16: 7896.07 | D16: 7670
B17: Julho/2026 | C17: 8943.35 | D17: 8104

Sheet HISTORICO
B4: FAURB
B5: Ano | C5: Total em dinheiro (R$) | D5: Total em consumo (kWh)
B6: 2004 | C6: 41699.15 | D6: 101885
B7: 2005 | C7: 43353.86 | D7: 93615
B8: 2006 | C8: 54496.91 | D8: 104880
B9: 2007 | C9: 42944.45 | D9: 96154
B10: 2008 | C10: 49076.5 | D10: 101346
B11: 2009 | C11: 48942.68 | D11: 100434
B12: 2010 | C12: 66598.95 | D12: 121444
B13: 2011 | C13: 74465.02 | D13: 124781
B14: 2012 | C14: ='2012'!C18 -> 93540.09 | D14: ='2012'!D18 -> 131553
B15: 2013 | C15: ='2013'!C18 -> 78132.93 | D15: ='2013'!D18 -> 153447
B16: 2014 | C16: ='2014'!C18 -> 82643.19 | D16: ='2014'!D18 -> 163137
B17: 2015 | C17: ='2015'!C18 -> 85088.85 | D17: ='2015'!D18 -> 113814
B18: 2016 | C18: ='2016'!C18 -> 78905.02 | D18: ='2016'!D18 -> 104986
B19: 2017 | C19: ='2017'!C18 -> 79900.97 | D19: ='2017'!D18 -> 107045
B20: 2018 | C20: ='2018'!C18 -> 121458.12 | D20: ='2018'!D18 -> 122381
B21: 2019 | C21: ='2019'!C18 -> 105565.68 | D21: ='2019'!D18 -> 111430
B22: 2020 | C22: ='2020'!C18 -> 45914.83 | D22: ='2020'!D18 -> 42095
B23: 2021 | C23: ='2021'!C18 -> 35273.3 | D23: ='2021'!D18 -> 32082
B24: 2022 | C24: 68381.55 | D24: 67299
B25: 2023 | C25: 96857.53 | D25: 96774
B26: 2024 | C26: 101430.62 | D26: 92029
B27: 2025 | C27: 95528.22 | D27: 85675
