Workbook

Sheet HISTORICO
B4: CONDOMÍNIO
B5: Ano | C5: Total em dinheiro (R$) | D5: Total em consumo (kWh)
B6: 2016
B7: 2017 | C7: 1665.27 | D7: 2726
B8: 2018 | C8: ='2018'!C$18 -> 19972.89 | D8: ='2018'!D$18 -> 25827
B9: 2019 | C9: ='2019'!C18 -> 23360.15 | D9: ='2019'!D18 -> 28935
B10: 2020 | C10: ='2020'!C18 -> 10650.26 | D10: ='2020'!D18 -> 14249
B11: 2021 | C11: ='2021'!C18 -> 13802.97 | D11: ='2021'!D18 -> 15327
B12: 2022 | C12: ='2022'!C18 -> 18951.16 | D12: ='2022'!D18 -> 22732
B13: 2023 | C13: ='2023'!C18 -> 14765.22 | D13: ='2023'!D18 -> 24192
B14: 2024 | C14: 17447.63 | D14: 31262
B15: 2025 | C15: ='2025'!C18 -> 12857.84 | D15: ='2025'!D18 -> 24928
B16: 2026
B17: 2027
B18: 2028
B19: 2029

Sheet 2017
B4: CONDOMÍNIO
B5: Mês | C5: Fatura Total (R$) | D5: Consumo Ativo (kWh)
B6: Janeiro
B7: Fevereiro
B8: Março
B9: Abril
B10: Maio
B11: Junho
B12: Julho
B13: Agosto
B14: Setembro | C14: 58.43 | D14: 100
B15: Outubro | C15: 59.18 | D15: 100
B16: Novembro | C16: 805.11 | D16: 1304
B17: Dezembro | C17: 742.55 | D17: 1222
B18: Total | C18: =SUM(C14:C17) -> 1665.27 | D18: =SUM(D14:D17) -> 2726

Sheet 2018
B4: CONDOMÍNIO
B5: Mês | C5: Fatura Total (R$) | D5: Consumo Ativo (kWh)
B6: Janeiro | C6: 857.66 | D6: 1176
B7: Fevereiro | C7: 1013.8 | D7: 1373
B8: Março | C8: 1133.99 | D8: 1563
B9: Abril | C9: 1558.69 | D9: 1999
B10: Maio | C10: 1873.69 | D10: 2592
B11: Junho | C11: 2245.6 | D11: 2855
B12: Julho | C12: 2344.58 | D12: 2907
B13: Agosto | C13: 2064.18 | D13: 2578
B14: Setembro | C14: 1930.68 | D14: 2387
B15: Outubro | C15: 1887.54 | D15: 2377
B16: Novembro | C16: 1539.62 | D16: 2040
B17: Dezembro | C17: 1522.86 | D17: 1980
B18: Total | C18: =SUM(C4:C17) -> 19972.89 | D18: =SUM(D6:D17) -> 25827

Sheet 2019
B4: CONDOMÍNIO
B5: Mês | C5: Fatura Total (R$) | D5: Consumo Ativo (kWh)
B6: Janeiro | C6: 985.44 | D6: 1240
B7: Fevereiro | C7: 905.8 | D7: 1120
B8: Março | C8: 1528.01 | D8: 1801
B9: Abril | C9: 2290.66 | D9: 2839
B10: Maio | C10: 2517.19 | D10: 3169
B11: Junho | C11: 2748.12 | D11: 3446
B12: Julho | C12: 3002.35 | D12: 3786
B13: Agosto | C13: 2447.43 | D13: 2929
B14: Setembro | C14: 2392.92 | D14: 2890
B15: Outubro | C15: 1468.87 | D15: 1782
B16: Novembro | C16: 1615.06 | D16: 2000
B17: Dezembro | C17: 1458.3 | D17: 1933
B18: Total | C18: =SUM(C4:C17) -> 23360.15 | D18: =SUM(D6:D17) -> 28935

Sheet 2020
B4: CONDOMÍNIO
B5: Mês | C5: Fatura Total (R$) | D5: Consumo Ativo (kWh)
B6: Janeiro | C6: 959.69 | D6: 1240
B7: Fevereiro | C7: 794.15 | D7: 1040
B8: Março | C8: 1305.46 | D8: 1759
B9: Abril | C9: 598.54 | D9: 775
B10: Maio | C10: 739.82 | D10: 993
B11: Junho | C11: 947.89 | D11: 1317
B12: Julho | C12: 1129.55 | D12: 1570
B13: Agosto | C13: 902.83 | D13: 1241
B14: Setembro | C14: 1048.65 | D14: 1445
B15: Outubro | C15: 793.51 | D15: 1059
B16: Novembro | C16: 663.17 | D16: 890
B17: Dezembro | C17: 767 | D17: 920
B18: Total | C18: =SUM(C4:C17) -> 10650.26 | D18: =SUM(D6:D17) -> 14249

Sheet 2021
B4: CONDOMÍNIO
B5: Mês | C5: Fatura Total (R$) | D5: Consumo Ativo (kWh)
B6: Janeiro | C6: 778.64 | D6: 903
B7: Fevereiro | C7: 751.39 | D7: 938
B8: Março | C8: 724.06 | D8: 884
B9: Abril | C9: 843.2 | D9: 1041
B10: Maio | C10: 1052.25 | D10: 1316
B11: Junho | C11: 1057.55 | D11: 1277
B12: Julho | C12: 1429.25 | D12: 1661
B13: Agosto | C13: 1626.78 | D13: 1807
B14: Setembro | C14: 1678.29 | D14: 1731
B15: Outubro | C15: 1348.58 | D15: 1356
B16: Novembro | C16: 1189.24 | D16: 1223
B17: Dezembro | C17: 1323.74 | D17: 1190
B18: Total | C18: =SUM(C4:C17) -> 13802.97 | D18: =SUM(D6:D17) -> 15327

Sheet 2022
B4: CONDOMÍNIO
B5: Mês | C5: Fatura Total (R$) | D5: Consumo Ativo (kWh)
B6: Janeiro | C6: 1071.06 | D6: 1005
B7: Fevereiro | C7: 1080.07 | D7: 1040
B8: Março | C8: 1547.96 | D8: 1457
B9: Abril | C9: 1833.3 | D9: 1767
B10: Maio | C10: 1632.79 | D10: 1918
B11: Junho | C11: 2220.99 | D11: 2611
B12: Julho | C12: 1856.44 | D12: 2396
B13: Agosto | C13: 1992.85 | D13: 2631
B14: Setembro | C14: 1842.52 | D14: 2450
B15: Outubro | C15: 1306.9 | D15: 1883
B16: Novembro | C16: 1200.11 | D16: 1706
B17: Dezembro | C17: 1366.17 | D17: 1868
B18: Total | C18: =SUM(C4:C17) -> 18951.16 | D18: =SUM(D6:D17) -> 22732

Sheet 2023
B4: CONDOMÍNIO
B5: Mês | C5: Fatura Total (R$) | D5: Consumo Ativo (kWh)
B6: Janeiro | C6: 84.75 | D6: 1354
B7: Fevereiro | C7: 188.6 | D7: 1114
B8: Março | C8: 1049.38 | D8: 2711
B9: Abril | C9: 1218.31 | D9: 1884
B10: Maio | C10: 1483.08 | D10: 1912
B11: Junho | C11: 1537.75 | D11: 2235
B12: Julho | C12: 883.16 | D12: 1148
B13: Agosto | C13: 1450.03 | D13: 1898
B14: Setembro | C14: 1709.77 | D14: 2237
B15: Outubro | C15: 1738.47 | D15: 2434
B16: Novembro | C16: 1409.48 | D16: 2408
B17: Dezembro | C17: 2012.44 | D17: 2857
B18: Total | C18: =SUM(C4:C17) -> 14765.22 | D18: =SUM(D6:D17) -> 24192

Sheet 2024
B4: CONDOMÍNIO
B5: Mês | C5: Fatura Total (R$) | D5: Consumo Ativo (kWh)
B6: Janeiro | C6: 1079.03 | D6: 2201
B7: Fevereiro | C7: 520.85 | D7: 2203
B8: Março | C8: 868.58 | D8: 2741
B9: Abril | C9: 1028.04 | D9: 2286
B10: Maio | C10: 660.9 | D10: 2263
B11: Junho | C11: 1995.38 | D11: 2925
B12: Julho | C12: 1725.94 | D12: 2439
B13: Agosto | C13: 2780.04 | D13: 3459
B14: Setembro | C14: 2134.41 | D14: 2618
B15: Outubro | C15: 2155.52 | D15: 2564
B16: Novembro | C16: 2177.22 | D16: 3267
B17: Dezembro | C17: 321.72 | D17: 2296
B18: Total | C18: =SUM(C4:C17) -> 17447.63 | D18: =SUM(D6:D17) -> 31262

Sheet 2025
B4: CONDOMÍNIO
B5: Mês | C5: Fatura Total (R$) | D5: Consumo Ativo (kWh)
B6: Janeiro | C6: 370.53 | D6: 1321
B7: Fevereiro | C7: 244.36 | D7: 1794
B8: Março | C8: 210.32 | D8: 2221
B9: Abril | C9: 234.46 | D9: 1674
B10: Maio | C10: 951.26 | D10: 1878
B11: Junho | C11: 1448.95 | D11: 2478
B12: Julho | C12: 2612.79 | D12: 3068
B13: Agosto | C13: 2319.73 | D13: 2702
B14: Setembro | C14: 2050.64 | D14: 2274
B15: Outubro | C15: 1078.84 | D15: 1867
B16: Novembro | C16: 969.19 | D16: 1741
B17: Dezembro | C17: 366.77 | D17: 1910
B18: Total | C18: =SUM(C4:C17) -> 12857.84 | D18: =SUM(D6:D17) -> 24928

Sheet GRAFICO
B4: CONDOMÍNIO
B5: Mês | C5: Fatura Total (R$) | D5: Consumo Ativo (kWh)
B6: 45870 | C6: 2319.73 | D6: 2702
B7: 45901 | C7: 2050.64 | D7: 2274
B8: 45931 | C8: 1078.84 | D8: 1867
B9: 45962 | C9: 969.19 | D9: 1741
B10: 45992 | C10: 366.77 | D10: 1910
B11: 46023 | C11: 239.54 | D11: 1370
B12: 46054 | C12: 243.89 | D12: 1489
B13: 46082 | C13: 287.62 | D13: 1911
B14: 46113 | C14: 296.4 | D14: 1930
B15: 46143 | C15: 311.74 | D15: 2046
B16: 46174 | C16: 992.16 | D16: 1588.4
B17: 46204 | C17: 2144.79 | D17: 435
