Workbook

Sheet 2012
B4: ICH - Alberto Rosa
B5: Mês | C5: Fatura Total (R$) | D5: Consumo Ativo (kWh)
B6: Janeiro | C6: 48.4 | D6: 100
B7: Fevereiro | C7: 48.78 | D7: 100
B8: Março | C8: 85.84 | D8: 176
B9: Abril | C9: 61.59 | D9: 125
B10: Maio | C10: 61.76 | D10: 125
B11: Junho | C11: 1025.61 | D11: 2128
B12: Julho | C12: 671.67 | D12: 1409
B13: Agosto | C13: 728.72 | D13: 1524
B14: Setembro | C14: 360.85 | D14: 739
B15: Outubro | C15: 421.5 | D15: 867
B16: Novembro | C16: 327.82 | D16: 684
B17: Dezembro | C17: 327.82 | D17: 684
B18: Total | C18: =SUM(C6:C17) -> 4170.36 | D18: =SUM(D6:D17) -> 8661

Sheet 2013
B4: ICH - Alberto Rosa
B5: Mês | C5: Fatura Total (R$) | D5: Consumo Ativo (kWh)
B6: Janeiro | C6: 384.79 | D6: 840
B7: Fevereiro | C7: 396.42 | D7: 1035
B8: Março | C8: 398.83 | D8: 1060
B9: Abril | C9: 423.9 | D9: 1114
B10: Maio | C10: 494.58 | D10: 1396
B11: Junho | C11: 597.6 | D11: 1695
B12: Julho | C12: 694.16 | D12: 1976
B13: Agosto | C13: 859.49 | D13: 2387
B14: Setembro | C14: 493.01 | D14: 1374
B15: Outubro | C15: 399.38 | D15: 1108
B16: Novembro | C16: 469.11 | D16: 1174
B17: Dezembro | C17: 498.26 | D17: 1174
B18: Total | C18: =SUM(C6:C17) -> 6109.53 | D18: =SUM(D6:D17) -> 16333

Sheet 2014
B4: ICH - Alberto Rosa
B5: Mês | C5: Fatura Total (R$) | D5: Consumo Ativo (kWh)
B6: Janeiro | C6: 23973.44 | D6: 67662
B7: Fevereiro | C7: 30107.42 | D7: 82882
B8: Março | C8: 23562.85 | D8: 64564
B9: Abril | C9: 19343.18 | D9: 52801
B10: Maio | C10: 18449.98 | D10: 51895
B11: Junho | C11: 15563.78 | D11: 44713
B12: Julho | C12: 15765.81 | D12: 46510
B13: Agosto | C13: 17995.86 | D13: 52670
B14: Setembro | C14: 16107.38 | D14: 47307
B15: Outubro | C15: 16765.08 | D15: 47667
B16: Novembro | C16: 21726.26 | D16: 61163
B17: Dezembro | C17: 23902.88 | D17: 68320
B18: Total | C18: =SUM(C6:C17) -> 243263.92 | D18: =SUM(D6:D17) -> 688154

Sheet 2015
B4: ICH - Alberto Rosa
B5: Mês | C5: Fatura Total (R$) | D5: Consumo Ativo (kWh)
B6: Janeiro
B7: Fevereiro
B8: Março
B9: Abril
B10: Maio
B11: Junho
B12: Julho
B13: Agosto
B14: Setembro
B15: Outubro
B16: Novembro
B17: Dezembro
B18: Total | C18: =SUM(C6:C17) -> 0 | D18: =SUM(D6:D17) -> 0

Sheet 2016
B4: ICH - Alberto Rosa
B5: Mês | C5: Fatura Total (R$) | D5: Consumo Ativo (kWh)
B6: Janeiro | C6: 7781.06 | D6: =421+7949 -> 8370
B7: Fevereiro | C7: 8839.9 | D7: =649+9302 -> 9951
B8: Março | C8: 10906.24 | D8: =1768+11558 -> 13326
B9: Abril | C9: 12937.47 | D9: =2482+12346 -> 14828
B10: Maio | C10: 11414.87 | D10: =2451+11222 -> 13673
B11: Junho | C11: 9893.73 | D11: =1786+10195 -> 11981
B12: Julho | C12: 8749.82 | D12: =1302+9389 -> 10691
B13: Agosto | C13: 9163.51 | D13: =1661+9494 -> 11155
B14: Setembro | C14: 11112.41 | D14: =2246+11069 -> 13315
B15: Outubro | C15: 8638.8 | D15: =1594+8636 -> 10230
B16: Novembro | C16: 6060.4 | D16: =598+6077 -> 6675
B17: Dezembro | C17: 7020.32 | D17: =731+7608 -> 8339
B18: Total | C18: =SUM(C6:C17) -> 112518.53 | D18: =SUM(D6:D17) -> 132534

Sheet 2017
B4: ICH - Alberto Rosa
B5: Mês | C5: Fatura Total (R$) | D5: Consumo Ativo (kWh)
B6: Janeiro | C6: 6341.72 | D6: =407+7097 -> 7504
B7: Fevereiro | C7: 8914.98 | D7: =1266+10508 -> 11774
B8: Março | C8: 12039.62 | D8: =2428+13251 -> 15679
B9: Abril | C9: 8847.2 | D9: =1289+9308 -> 10597
B10: Maio | C10: 10358.67 | D10: =1834+9266 -> 11100
B11: Junho | C11: 11383.18 | D11: =2172+10648 -> 12820
B12: Julho | C12: 10356.22 | D12: =2161+9534 -> 11695
B13: Agosto | C13: 9541.89 | D13: =1938+9508 -> 11446
B14: Setembro | C14: 6779.3 | D14: =3034+7524 -> 10558
B15: Outubro | C15: 8091.76 | D15: =1621+8227 -> 9848
B16: Novembro | C16: 10880.04 | D16: =1529+9170 -> 10699
B17: Dezembro | C17: 14171.18 | D17: =2333+9690 -> 12023
B18: Total | C18: =SUM(C6:C17) -> 117705.76 | D18: =SUM(D6:D17) -> 135743

Sheet 2018
B4: ICH - Alberto Rosa
B5: Mês | C5: Fatura Total (R$) | D5: Consumo Ativo (kWh)
B6: Janeiro | C6: 14914.87 | D6: =1050+7923 -> 8973
B7: Fevereiro | C7: 23569.2 | D7: =3066+14750 -> 17816
B8: Março | C8: 24648.98 | D8: =3476+13799 -> 17275
B9: Abril | C9: 26018.9 | D9: =3742+13034 -> 16776
B10: Maio | C10: 18645.06 | D10: =3305+11948 -> 15253
B11: Junho | C11: 20733.05 | D11: =2743+10712 -> 13455
B12: Julho | C12: 22703.85 | D12: =3522+13239 -> 16761
B13: Agosto | C13: 17646.39 | D13: =10795+2384 -> 13179
B14: Setembro | C14: 14764.31 | D14: =9033+2221 -> 11254
B15: Outubro | C15: 13181.07 | D15: =1718+8612 -> 10330
B16: Novembro | C16: 15295.14 | D16: 13339
B17: Dezembro | C17: 20509.04 | D17: =17018+3494 -> 20512
B18: Total | C18: =SUM(C6:C17) -> 232629.86 | D18: =SUM(D6:D17) -> 174923

Sheet 2019
B4: ICH - Alberto Rosa
B5: Mês | C5: Fatura Total (R$) | D5: Consumo Ativo (kWh)
B6: Janeiro | C6: 10833.9 | D6: =8999+737 -> 9736
B7: Fevereiro | C7: 14345.37 | D7: =1184+15173 -> 16357
B8: Março | C8: 19268.35 | D8: =2646+15199 -> 17845
B9: Abril | C9: 18068.02 | D9: =3131+12018 -> 15149
B10: Maio | C10: 13148.36 | D10: =1711+9024 -> 10735
B11: Junho | C11: 12157.64 | D11: =1526+8337 -> 9863
B12: Julho | C12: 13486.35 | D12: =1825+9689 -> 11514
B13: Agosto | C13: 12315.74 | D13: =9025+1345 -> 10370
B14: Setembro | C14: 13926.66 | D14: =9631+2026 -> 11657
B15: Outubro | C15: 10384.56 | D15: =1301+5894 -> 7195
B16: Novembro | C16: 10909.72 | D16: =6946+1242 -> 8188
B17: Dezembro | C17: 20814.93 | D17: =12232+2836 -> 15068
B18: Total | C18: =SUM(C6:C17) -> 169659.6 | D18: =SUM(D6:D17) -> 143677

Sheet 2020
B4: CCHS - Alberto Rosa
B5: Mês | C5: Fatura Total (R$) | D5: Consumo Ativo (kWh)
B6: Janeiro | C6: 11935.25 | D6: =9710+1280 -> 10990
B7: Fevereiro | C7: 14957.63 | D7: =15947+1909 -> 17856
B8: Março | C8: 16339.5 | D8: =14751+2022 -> 16773
B9: Abril | C9: 7412.05 | D9: =3386+1171 -> 4557
B10: Maio | C10: 7008.91 | D10: =3343+1027 -> 4370
B11: Junho | C11: 6418.95 | D11: =2741+1028 -> 3769
B12: Julho | C12: 6431.28 | D12: =2590+1230 -> 3820
B13: Agosto | C13: 6702.27 | D13: =2848+1220 -> 4068
B14: Setembro | C14: 7076.27 | D14: =3708+1091 -> 4799
B15: Outubro | C15: 6363.74 | D15: =2805+1253 -> 4058
B16: Novembro | C16: 2019.98 | D16: =1608+506 -> 2114
B17: Dezembro | C17: 3154.49 | D17: =2609+1125 -> 3734
B18: Total | C18: =SUM(C6:C17) -> 95820.32 | D18: =SUM(D6:D17) -> 80908

Sheet 2021
B4: CCHS - Alberto Rosa
B5: Mês | C5: Fatura Total (R$) | D5: Consumo Ativo (kWh)
B6: Janeiro | C6: 3594.62 | D6: =2478+1248 -> 3726
B7: Fevereiro | C7: 2957.77 | D7: =3055+1157 -> 4212
B8: Março | C8: 3399.52 | D8: =2638+1201 -> 3839
B9: Abril | C9: 3725 | D9: =1375+2844 -> 4219
B10: Maio | C10: 3235.55 | D10: =1352+2571 -> 3923
B11: Junho | C11: 3333.67 | D11: =2832+1326 -> 4158
B12: Julho | C12: 3160.06 | D12: =1171+2717 -> 3888
B13: Agosto | C13: 2698.19 | D13: =869+1934 -> 2803
B14: Setembro | C14: 3584.83 | D14: =1124+2697 -> 3821
B15: Outubro | C15: 4179.91 | D15: =836+3222 -> 4058
B16: Novembro | C16: 4217.11 | D16: =897+3416 -> 4313
B17: Dezembro | C17: 4542.18 | D17: =885+3485 -> 4370
B18: Total | C18: =SUM(C6:C17) -> 42628.41 | D18: =SUM(D6:D17) -> 47330

Sheet 2022
B3: CCHS - Alberto Rosa
B4: Mês | C4: Fatura Total (R$) | D4: Consumo Ativo (kWh)
B5: Janeiro | C5: 4472.83 | D5: =2913+294 -> 3207
B6: Fevereiro | C6: 4046.97 | D6: =3057+294 -> 3351
B7: Março | C7: 4138.66 | D7: =2878+282 -> 3160
B8: Abril | C8: 5705.59 | D8: =466+4524 -> 4990
B9: Maio | C9: 4698.91 | D9: =335+4134 -> 4469
B10: Junho | C10: 4761.09 | D10: =444+4675 -> 5119
B11: Julho | C11: 9535.24 | D11: =653+9030 -> 9683
B12: Agosto | C12: 9699.2 | D12: =504+8399 -> 8903
B13: Setembro | C13: 22923.06 | D13: 23620
B14: Outubro | C14: 9660.06 | D14: 8460
B15: Novembro | C15: 7108.88 | D15: 5712
B16: Dezembro | C16: 12993.35 | D16: 8728
B17: Total | C17: =SUM(C5:C16) -> 99743.84 | D17: =SUM(D5:D16) -> 89402

Sheet 2023
B3: CCHS - Alberto Rosa
B4: Mês | C4: Fatura Total (R$) | D4: Consumo Ativo (kWh)
B5: Janeiro | C5: 10939.05 | D5: 7802
B6: Fevereiro | C6: 12099.49 | D6: 9455
B7: Março | C7: 24220.69 | D7: 13294
B8: Abril | C8: 32055.26 | D8: 29516
B9: Maio | C9: 10727.23 | D9: 9206
B10: Junho | C10: 7767.64 | D10: 6933
B11: Julho | C11: 11142.98 | D11: 10208
B12: Agosto | C12: 11309.93 | D12: 9678
B13: Setembro | C13: 11545.66 | D13: 9994
B14: Outubro | C14: 8088.54 | D14: 6811
B15: Novembro | C15: 8297.97 | D15: 6527
B16: Dezembro | C16: 14859.81 | D16: 12473
B17: Total | C17: =SUM(C5:C16) -> 163054.25 | D17: =SUM(D5:D16) -> 131897

Sheet 2024
B3: CCHS - Alberto Rosa
B4: Mês | C4: Fatura Total (R$) | D4: Consumo Ativo (kWh)
B5: Janeiro | C5: 9279.23 | D5: 12981
B6: Fevereiro | C6: 13334.37 | D6: 14019
B7: Março | C7: 26063.97 | D7: 23965
B8: Abril | C8: 24477.8 | D8: 19949
B9: Maio | C9: 8431.25 | D9: 5805
B10: Junho | C10: 6457 | D10: 3702
B11: Julho | C11: 7685.43 | D11: 5367
B12: Agosto | C12: 23424.54 | D12: 21620
B13: Setembro | C13: 15851.88 | D13: 13738
B14: Outubro | C14: 9951.18 | D14: 7129
B15: Novembro | C15: 9784.75 | D15: 7197
B16: Dezembro | C16: 9650.88 | D16: 7809
B17: Total | C17: =SUM(C5:C16) -> 164392.28 | D17: =SUM(D5:D16) -> 143281

Sheet 2025
B3: CCHS - Alberto Rosa
B4: Mês | C4: Fatura Total (R$) | D4: Consumo Ativo (kWh)
B5: Janeiro | C5: 10476.1 | D5: 8459
B6: Fevereiro | C6: 9071.52 | D6: 7038
B7: Março | C7: 21549.82 | D7: 16652
B8: Abril | C8: 29566.86 | D8: 24488
B9: Maio | C9: 13723.12 | D9: 12928
B10: Junho | C10: 11918.82 | D10: 9349
B11: Julho | C11: 27437.38 | D11: 25703
B12: Agosto | C12: 34695.04 | D12: 35836
B13: Setembro | C13: 19780.63 | D13: 18499
B14: Outubro | C14: 10273.02 | D14: 7053
B15: Novembro | C15: 11374.57 | D15: 8386
B16: Dezembro | C16: 17497.62 | D16: 13619
B17: Total | C17: =SUM(C5:C16) -> 217364.5 | D17: =SUM(D5:D16) -> 188010

Sheet GRAFICO
B4: CCHS - Alberto Rosa
B5: Mês | C5: Fatura Total (R$) | D5: Consumo Ativo (kWh)
B6: Agosto/2025 | C6: 34695.04 | D6: 35836
B7: Setembro/2025 | C7: 19780.63 | D7: 18499
B8: Outubro/2025 | C8: 10273.02 | D8: 7053
B9: Novembro/2025 | C9: 11374.57 | D9: 8386
B10: Dezembro/2025 | C10: 17497.62 | D10: 13619
B11: Janeiro/2026 | C11: 25841.94 | D11: 21877
B12: Fevereiro/2026 | C12: 15594.85 | D12: 23641
B13: Março/2026 | C13: 32449.07 | D13: 17004
B14: Abril/2026 | C14: 22375.19 | D14: 11555
B15: Maio/2026 | C15: 16250.55 | D15: 10112
B16: Junho/2026 | C16: 14255.57 | D16: 15577
B17: Julho/2026 | C17: 20289.26 | D17: 10133

Sheet HISTORICO
B4: ICH - Alberto Rosa
B5: Ano | C5: Total em dinheiro (R$) | D5: Total em consumo (kWh)
B6: 2012 | C6: ='2012'!C$18 -> 4170.36 | D6: ='2012'!D$18 -> 8661
B7: 2013 | C7: ='2013'!C$18 -> 6109.53 | D7: 179560
B8: 2014 | C8: ='2014'!C$18 -> 243263.92 | D8: 255414
B9: 2015 | C9: 8076.88 | D9: 163965
B10: 2016 | C10: ='2016'!C$18 -> 112518.53 | D10: ='2016'!D$18 -> 132534
B11: 2017 | C11: ='2017'!C$18 -> 117705.76 | D11: ='2017'!D$18 -> 135743
B12: 2018 | C12: ='2018'!C$18 -> 232629.86 | D12: ='2018'!D$18 -> 174923
B13: 2019 | C13: ='2019'!C18 -> 169659.6 | D13: ='2019'!D18 -> 143677
B14: 2020 | C14: ='2020'!C18 -> 95820.32 | D14: ='2020'!D18 -> 80908
B15: 2021 | C15: ='2021'!C18 -> 42628.41 | D15: ='2021'!D18 -> 47330
B16: 2022 | C16: 99743.84 | D16: 89402
B17: 2023 | C17: 163054.25 | D17: 131897
B18: 2024 | C18: 164392.28 | D18: 143281
B19: 2025 | C19: 217364.5 | D19: 188010
