Workbook

Sheet 2017
B4: APARTAMENTO 612
B5: Mês | C5: Fatura Total (R$) | D5: Consumo Ativo (kWh)
B6: Janeiro
B7: Fevereiro
B8: Março
B9: Abril
B10: Maio
B11: Junho
B12: Julho
B13: Agosto
B14: Setembro
B15: Outubro
B16: Novembro | C16: 94.79 | D16: 154
B17: Dezembro | C17: 18.21 | D17: 30
B18: Total | C18: =SUM(C16:C17) -> 113 | D18: =SUM(D16:D17) -> 184

Sheet 2019
B4: APARTAMENTO 612
B5: Mês | C5: Fatura Total (R$) | D5: Consumo Ativo (kWh)
B6: Janeiro | C6: 57.99 | D6: 73
B7: Fevereiro | C7: 125.37 | D7: 155
B8: Março | C8: 152.53 | D8: 183
B9: Abril | C9: 184.51 | D9: 227
B10: Maio | C10: 195.38 | D10: 246
B11: Junho | C11: 281.08 | D11: 354
B12: Julho | C12: 701.03 | D12: 884
B13: Agosto | C13: 585.07 | D13: 710
B14: Setembro | C14: 526.59 | D14: 636
B15: Outubro | C15: 540.75 | D15: 656
B16: Novembro | C16: 222.04 | D16: 275
B17: Dezembro | C17: 107.84 | D17: 143
B18: Total | C18: =SUM(C6:C17) -> 3680.18 | D18: =SUM(D6:D17) -> 4542

Sheet 2018
B4: APARTAMENTO 612
B5: Mês | C5: Fatura Total (R$) | D5: Consumo Ativo (kWh)
B6: Janeiro | C6: 118.11 | D6: 160
B7: Fevereiro | C7: 24.54 | D7: 30
B8: Março | C8: 21.75 | D8: 30
B9: Abril | C9: 25.84 | D9: 30
B10: Maio | C10: 193.4 | D10: 271
B11: Junho | C11: 462.53 | D11: 597
B12: Julho | C12: 507.58 | D12: 631
B13: Agosto | C13: 485.32 | D13: 608
B14: Setembro | C14: 181.18 | D14: 224
B15: Outubro | C15: 117.51 | D15: 148
B16: Novembro | C16: 86.77 | D16: 115
B17: Dezembro | C17: 93.81 | D17: 122
B18: Total | C18: =SUM(C6:C17) -> 2318.34 | D18: =SUM(D6:D17) -> 2966

Sheet 2020
B4: APARTAMENTO 612
B5: Mês | C5: Fatura Total (R$) | D5: Consumo Ativo (kWh)
B6: Janeiro | C6: 104.47 | D6: 135
B7: Fevereiro | C7: 92.38 | D7: 121
B8: Março | C8: 66.8 | D8: 90
B9: Abril | C9: 23.14 | D9: 30
B10: Maio | C10: 23.14 | D10: 30
B11: Junho | C11: 21.57 | D11: 30
B12: Julho | C12: 225.17 | D12: 313
B13: Agosto | C13: 64.03 | D13: 88
B14: Setembro | C14: 76.18 | D14: 105
B15: Outubro | C15: 73.41 | D15: 98
B16: Novembro | C16: 70.77 | D16: 95
B17: Dezembro | C17: 48.33 | D17: 58
B18: Total | C18: =SUM(C6:C17) -> 889.39 | D18: =SUM(D6:D17) -> 1193

Sheet 2021
B4: APARTAMENTO 612
B5: Mês | C5: Fatura Total (R$) | D5: Consumo Ativo (kWh)
B6: Janeiro | C6: 25.83 | D6: 30
B7: Fevereiro | C7: 24.81 | D7: 31
B8: Março | C8: 36.02 | D8: 44
B9: Abril | C9: 24.33 | D9: 30
B10: Maio | C10: 23.97 | D10: 30
B11: Junho | C11: 24.79 | D11: 30
B12: Julho | C12: 25.78 | D12: 30
B13: Agosto | C13: 26.98 | D13: 30
B14: Setembro | C14: 29.07 | D14: 30
B15: Outubro | C15: 30.14 | D15: 30
B16: Novembro | C16: 29.15 | D16: 30
B17: Dezembro | C17: 33.34 | D17: 30
B18: Total | C18: =SUM(C6:C17) -> 334.21 | D18: =SUM(D6:D17) -> 375

Sheet 2022
B4: APARTAMENTO 612
B5: Mês | C5: Fatura Total (R$) | D5: Consumo Ativo (kWh)
B6: Janeiro | C6: 31.96 | D6: 30
B7: Fevereiro | C7: 41.53 | D7: 40
B8: Março | C8: 55.93 | D8: 53
B9: Abril | C9: 39.13 | D9: 37
B10: Maio | C10: 39.17 | D10: 32
B11: Junho | C11: 157.65 | D11: 172
B12: Julho | C12: 293.86 | D12: 366
B13: Agosto | C13: 252.3 | D13: 319
B14: Setembro | C14: 217.6 | D14: 275
B15: Outubro | C15: 117.36 | D15: 153
B16: Novembro | C16: 44.19 | D16: 46
B17: Dezembro | C17: 74.47 | D17: 86
B18: Total | C18: =SUM(C6:C17) -> 1365.15 | D18: =SUM(D6:D17) -> 1609

Sheet 2023
B4: APARTAMENTO 612
B5: Mês | C5: Fatura Total (R$) | D5: Consumo Ativo (kWh)
B6: Janeiro | C6: 33.93 | D6: 30
B7: Fevereiro | C7: 58.88 | D7: 58
B8: Março | C8: 48.74 | D8: 46
B9: Abril | C9: 40.65 | D9: 37
B10: Maio | C10: 56.75 | D10: 58
B11: Junho | C11: 170.76 | D11: 209
B12: Julho | C12: 97.86 | D12: 113
B13: Agosto | C13: 175.03 | D13: 215
B14: Setembro | C14: 261.8 | D14: 329
B15: Outubro | C15: 308.52 | D15: 390
B16: Novembro | C16: 215.35 | D16: 262
B17: Dezembro | C17: 241.94 | D17: 292
B18: Total | C18: =SUM(C6:C17) -> 1710.21 | D18: =SUM(D6:D17) -> 2039

Sheet 2024
B4: APARTAMENTO 612
B5: Mês | C5: Fatura Total (R$) | D5: Consumo Ativo (kWh)
B6: Janeiro | C6: 149.73 | D6: 178
B7: Fevereiro | C7: 158.01 | D7: 193
B8: Março | C8: 135.37 | D8: 164
B9: Abril | C9: 193.71 | D9: 239
B10: Maio | C10: 260.54 | D10: 325
B11: Junho | C11: 243.1 | D11: 304
B12: Julho | C12: 230.76 | D12: 289
B13: Agosto | C13: 433.84 | D13: 527
B14: Setembro | C14: 353.78 | D14: 418
B15: Outubro | C15: 386.1 | D15: 444
B16: Novembro | C16: 421.44 | D16: 508
B17: Dezembro | C17: 295.76 | D17: 347
B18: Total | C18: =SUM(C6:C17) -> 3262.14 | D18: =SUM(D6:D17) -> 3936

Sheet 2025
B4: APARTAMENTO 612
B5: Mês | C5: Fatura Total (R$) | D5: Consumo Ativo (kWh)
B6: Janeiro | C6: 118.86 | D6: 120
B7: Fevereiro | C7: 139.66 | D7: 146
B8: Março | C8: 181.83 | D8: 200
B9: Abril | C9: 137.28 | D9: 150
B10: Maio | C10: 186.17 | D10: 205
B11: Junho | C11: 259.59 | D11: 288
B12: Julho | C12: 248.18 | D12: 273
B13: Agosto | C13: 186.73 | D13: 200
B14: Setembro | C14: 370.48 | D14: 396
B15: Outubro | C15: 282.09 | D15: 302
B16: Novembro | C16: 221.04 | D16: 230
B17: Dezembro | C17: 288.18 | D17: 276
B18: Total | C18: =SUM(C6:C17) -> 2620.09 | D18: =SUM(D6:D17) -> 2786

Sheet GRAFICO
B4: APARTAMENTO 612
B5: Mês | C5: Fatura Total (R$) | D5: Consumo Ativo (kWh)
B6: 45870 | C6: 186.73 | D6: 200
B7: 45901 | C7: 370.48 | D7: 396
B8: 45931 | C8: 282.09 | D8: 302
B9: 45962 | C9: 221.04 | D9: 230
B10: 45992 | C10: 288.18 | D10: 276
B11: 46023 | C11: 135.6 | D11: 120
B12: 46054 | C12: 182.01 | D12: 173
B13: 46082 | C13: 239.7 | D13: 230
B14: 46113 | C14: 218.28 | D14: 210
B15: 46143 | C15: 321.36 | D15: 310
B16: 46174 | C16: 382.36 | D16: 353
B17: 46204 | C17: 282.69 | D17: 272

Sheet HISTORICO
B4: APARTAMENTO 612
B5: Ano | C5: Total em dinheiro (R$) | D5: Total em consumo (kWh)
B6: 2017 | C6: ='2017'!C$18 -> 113 | D6: ='2017'!D$18 -> 184
B7: 2018 | C7: ='2018'!C$18 -> 2318.34 | D7: ='2018'!D$18 -> 2966
B8: 2019 | C8: ='2019'!C18 -> 3680.18 | D8: ='2019'!D18 -> 4542
B9: 2020 | C9: ='2020'!C18 -> 889.39 | D9: ='2020'!D18 -> 1193
B10: 2021 | C10: ='2021'!C18 -> 334.21 | D10: ='2021'!D18 -> 375
B11: 2022 | C11: ='2022'!C18 -> 1365.15 | D11: ='2022'!D18 -> 1609
B12: 2023 | C12: 1710.21 | D12: 2039
B13: 2024 | C13: 3262.14 | D13: 3936
B14: 2025 | C14: 2620.09 | D14: 2786
