Workbook

Sheet 2017
B4: APARTAMENTO 611
B5: Mês | C5: Fatura Total (R$) | D5: Consumo Ativo (kWh)
B6: Janeiro
B7: Fevereiro
B8: Março
B9: Abril
B10: Maio
B11: Junho
B12: Julho
B13: Agosto
B14: Setembro
B15: Outubro
B16: Novembro | C16: 77.5 | D16: 126
B17: Dezembro | C17: 51.64 | D17: 85
B18: Total | C18: =SUM(C16:C17) -> 129.14 | D18: =SUM(D16:D17) -> 211

Sheet 2018
B4: APARTAMENTO 611
B5: Mês | C5: Fatura Total (R$) | D5: Consumo Ativo (kWh)
B6: Janeiro | C6: 74.34 | D6: 100
B7: Fevereiro | C7: 83.9 | D7: 111
B8: Março | C8: 147.27 | D8: 203
B9: Abril | C9: 110.23 | D9: 144
B10: Maio | C10: 98.46 | D10: 138
B11: Junho | C11: 276.52 | D11: 354
B12: Julho | C12: 162.6 | D12: 201
B13: Agosto | C13: 218 | D13: 271
B14: Setembro | C14: 219.99 | D14: 272
B15: Outubro | C15: 188.97 | D15: 238
B16: Novembro | C16: 136.59 | D16: 181
B17: Dezembro | C17: 146.14 | D17: 190
B18: Total | C18: =SUM(C6:C17) -> 1863.01 | D18: =SUM(D6:D17) -> 2403

Sheet 2019
B4: APARTAMENTO 611
B5: Mês | C5: Fatura Total (R$) | D5: Consumo Ativo (kWh)
B6: Janeiro | C6: 27.8 | D6: 35
B7: Fevereiro | C7: 93.01 | D7: 115
B8: Março | C8: 147.5 | D8: 176
B9: Abril | C9: 172.48 | D9: 213
B10: Maio | C10: 274.82 | D10: 346
B11: Junho | C11: 488.85 | D11: 620
B12: Julho | C12: 368.73 | D12: 465
B13: Agosto | C13: 440.32 | D13: 527
B14: Setembro | C14: 327.04 | D14: 395
B15: Outubro | C15: 222.57 | D15: 270
B16: Novembro | C16: 133.21 | D16: 165
B17: Dezembro | C17: 95.03 | D17: 126
B18: Total | C18: =SUM(C6:C17) -> 2791.36 | D18: =SUM(D6:D17) -> 3453

Sheet 2020
B4: APARTAMENTO 611
B5: Mês | C5: Fatura Total (R$) | D5: Consumo Ativo (kWh)
B6: Janeiro | C6: 42.54 | D6: 55
B7: Fevereiro | C7: 58.77 | D7: 77
B8: Março | C8: 95.75 | D8: 129
B9: Abril | C9: 146.73 | D9: 190
B10: Maio | C10: 179.55 | D10: 241
B11: Junho | C11: 503.81 | D11: 700
B12: Julho | C12: 648.22 | D12: 901
B13: Agosto | C13: 191.33 | D13: 263
B14: Setembro | C14: 201.74 | D14: 278
B15: Outubro | C15: 113.88 | D15: 152
B16: Novembro | C16: 70.77 | D16: 95
B17: Dezembro | C17: 83.36 | D17: 100
B18: Total | C18: =SUM(C6:C17) -> 2336.45 | D18: =SUM(D6:D17) -> 3181

Sheet 2021
B4: APARTAMENTO 611
B5: Mês | C5: Fatura Total (R$) | D5: Consumo Ativo (kWh)
B6: Janeiro | C6: 61.18 | D6: 71
B7: Fevereiro | C7: 69.67 | D7: 87
B8: Março | C8: 97.45 | D8: 119
B9: Abril | C9: 117.69 | D9: 146
B10: Maio | C10: 130.29 | D10: 163
B11: Junho | C11: 119.23 | D11: 144
B12: Julho | C12: 113.55 | D12: 132
B13: Agosto | C13: 123.31 | D13: 137
B14: Setembro | C14: 116.32 | D14: 120
B15: Outubro | C15: 89.41 | D15: 89
B16: Novembro | C16: 93.33 | D16: 96
B17: Dezembro | C17: 112.34 | D17: 101
B18: Total | C18: =SUM(C6:C17) -> 1243.77 | D18: =SUM(D6:D17) -> 1405

Sheet 2022
B4: APARTAMENTO 611
B5: Mês | C5: Fatura Total (R$) | D5: Consumo Ativo (kWh)
B6: Janeiro | C6: 127.86 | D6: 120
B7: Fevereiro | C7: 121.46 | D7: 117
B8: Março | C8: 158.77 | D8: 150
B9: Abril | C9: 147.43 | D9: 140
B10: Maio | C10: 146.49 | D10: 159
B11: Junho | C11: 144.09 | D11: 156
B12: Julho | C12: 153.02 | D12: 183
B13: Agosto | C13: 244.78 | D13: 309
B14: Setembro | C14: 172.03 | D14: 214
B15: Outubro | C15: 156.55 | D15: 210
B16: Novembro | C16: 101.3 | D16: 128
B17: Dezembro | C17: 86.09 | D17: 102
B18: Total | C18: =SUM(C6:C17) -> 1759.87 | D18: =SUM(D6:D17) -> 1988

Sheet 2023
B4: APARTAMENTO 611
B5: Mês | C5: Fatura Total (R$) | D5: Consumo Ativo (kWh)
B6: Janeiro | C6: 62.96 | D6: 70
B7: Fevereiro | C7: 36.33 | D7: 30
B8: Março | C8: 162.47 | D8: 190
B9: Abril | C9: 69.14 | D9: 74
B10: Maio | C10: 35.23 | D10: 30
B11: Junho | C11: 102.43 | D11: 119
B12: Julho | C12: 110.62 | D12: 130
B13: Agosto | C13: 88.03 | D13: 100
B14: Setembro | C14: 87.4 | D14: 99
B15: Outubro | C15: 106 | D15: 121
B16: Novembro | C16: 106 | D16: 121
B17: Dezembro | C17: 101.08 | D17: 113
B18: Total | C18: =SUM(C6:C17) -> 1067.69 | D18: =SUM(D6:D17) -> 1197

Sheet 2024
B4: APARTAMENTO 611
B5: Mês | C5: Fatura Total (R$) | D5: Consumo Ativo (kWh)
B6: Janeiro | C6: 80.17 | D6: 88
B7: Fevereiro | C7: 120.22 | D7: 143
B8: Março | C8: 104.58 | D8: 123
B9: Abril | C9: 114.7 | D9: 135
B10: Maio | C10: 135.2 | D10: 161
B11: Junho | C11: 220.31 | D11: 274
B12: Julho | C12: 278.25 | D12: 352
B13: Agosto | C13: 561.9 | D13: 687
B14: Setembro | C14: 599.86 | D14: 722
B15: Outubro | C15: 308.44 | D15: 351
B16: Novembro | C16: 217.4 | D16: 258
B17: Dezembro | C17: 149.79 | D17: 160
B18: Total | C18: =SUM(C6:C17) -> 2890.82 | D18: =SUM(D6:D17) -> 3454

Sheet 2025
B4: APARTAMENTO 611
B5: Mês | C5: Fatura Total (R$) | D5: Consumo Ativo (kWh)
B6: Janeiro | C6: 139.88 | D6: 147
B7: Fevereiro | C7: 51.24 | D7: 33
B8: Março | C8: 84.86 | D8: 76
B9: Abril | C9: 60.04 | D9: 57
B10: Maio | C10: 142.28 | D10: 153
B11: Junho | C11: 255.33 | D11: 283
B12: Julho | C12: 716.54 | D12: 829
B13: Agosto | C13: 659.88 | D13: 755
B14: Setembro | C14: 412.55 | D14: 443
B15: Outubro | C15: 209.3 | D15: 220
B16: Novembro | C16: 428.85 | D16: 468
B17: Dezembro | C17: 46.04 | D17: 30
B18: Total | C18: =SUM(C6:C17) -> 3206.79 | D18: =SUM(D6:D17) -> 3494

Sheet GRAFICO
B4: APARTAMENTO 611
B5: Mês | C5: Fatura Total (R$) | D5: Consumo Ativo (kWh)
B6: 45870 | C6: 659.88 | D6: 755
B7: 45901 | C7: 412.55 | D7: 443
B8: 45931 | C8: 209.3 | D8: 220
B9: 45962 | C9: 428.85 | D9: 468
B10: 45992 | C10: 46.04 | D10: 30
B11: 46023 | C11: 47.79 | D11: 32
B12: 46054 | C12: 79.22 | D12: 66
B13: 46082 | C13: 210.49 | D13: 200
B14: 46113 | C14: 137.28 | D14: 126
B15: 46143 | C15: 233.82 | D15: 221
B16: 46174 | C16: 271.45 | D16: 246
B17: 46204 | C17: 97.7 | D17: 83

Sheet HISTORICO
B4: APARTAMENTO 611
B5: Ano | C5: Total em dinheiro (R$) | D5: Total em consumo (kWh)
B6: 2017 | C6: ='2017'!C$18 -> 129.14 | D6: ='2017'!D$18 -> 211
B7: 2018 | C7: ='2018'!C$18 -> 1863.01 | D7: ='2018'!D$18 -> 2403
B8: 2019 | C8: ='2019'!C18 -> 2791.36 | D8: ='2019'!D18 -> 3453
B9: 2020 | C9: ='2020'!C18 -> 2336.45 | D9: ='2020'!D18 -> 3181
B10: 2021 | C10: ='2021'!C18 -> 1243.77 | D10: ='2021'!D18 -> 1405
B11: 2022 | C11: ='2022'!C18 -> 1759.87 | D11: ='2022'!D18 -> 1988
B12: 2023 | C12: 1067.69 | D12: 1197
B13: 2024 | C13: 2890.82 | D13: 3454
B14: 2025 | C14: 3206.79 | D14: 3494
