Workbook

Sheet HISTORICO
B4: APARTAMENTO 210
B5: Ano | C5: Total em dinheiro (R$) | D5: Total em consumo (kWh)
B6: 2016
B7: 2017 | C7: ='2017'!C18 -> 107.72 | D7: ='2017'!D18 -> 176
B8: 2018 | C8: ='2018'!C18 -> 1373.34 | D8: ='2018'!D18 -> 1771
B9: 2019 | C9: ='2019'!C18 -> 2078.91 | D9: ='2019'!D18 -> 2572
B10: 2020 | C10: ='2020'!C18 -> 814.48 | D10: ='2020'!D18 -> 1102
B11: 2021 | C11: ='2021'!C18 -> 1084.21 | D11: ='2021'!D18 -> 1214
B12: 2022 | C12: ='2022'!C18 -> 1195.64 | D12: ='2022'!D18 -> 1351
B13: 2023 | C13: ='2023'!C18 -> 1388.25 | D13: ='2023'!D18 -> 1617
B14: 2024 | C14: 1543.82 | D14: 1762
B15: 2025 | C15: ='2025'!C18 -> 1510.98 | D15: ='2025'!D18 -> 1515
B16: 2026
B17: 2027
B18: 2028
B19: 2029

Sheet 2017
B4: APARTAMENTO 210
B5: Mês | C5: Fatura Total (R$) | D5: Consumo Ativo (kWh)
B6: Janeiro
B7: Fevereiro
B8: Março
B9: Abril
B10: Maio
B11: Junho
B12: Julho
B13: Agosto
B14: Setembro
B15: Outubro
B16: Novembro | C16: 62.17 | D16: 101
B17: Dezembro | C17: 45.55 | D17: 75
B18: Total | C18: =SUM(C16:C17) -> 107.72 | D18: =SUM(D16:D17) -> 176

Sheet 2018
B4: APARTAMENTO 210
B5: Mês | C5: Fatura Total (R$) | D5: Consumo Ativo (kWh)
B6: Janeiro | C6: 42.99 | D6: 57
B7: Fevereiro | C7: 31.08 | D7: 40
B8: Março | C8: 63.85 | D8: 88
B9: Abril | C9: 54.99 | D9: 72
B10: Maio | C10: 77.05 | D10: 108
B11: Junho | C11: 66.24 | D11: 84
B12: Julho | C12: 130.98 | D12: 162
B13: Agosto | C13: 314.11 | D13: 401
B14: Setembro | C14: 110.81 | D14: 137
B15: Outubro | C15: 185.01 | D15: 233
B16: Novembro | C16: 153.96 | D16: 204
B17: Dezembro | C17: 142.27 | D17: 185
B18: Total | C18: =SUM(C6:C17) -> 1373.34 | D18: =SUM(D6:D17) -> 1771

Sheet 2019
B4: APARTAMENTO 210
B5: Mês | C5: Fatura Total (R$) | D5: Consumo Ativo (kWh)
B6: Janeiro | C6: 29.4 | D6: 37
B7: Fevereiro | C7: 32.35 | D7: 40
B8: Março | C8: 125.51 | D8: 149
B9: Abril | C9: 164.52 | D9: 205
B10: Maio | C10: 131.05 | D10: 165
B11: Junho | C11: 247.03 | D11: 311
B12: Julho | C12: 531.31 | D12: 670
B13: Agosto | C13: 262.17 | D13: 315
B14: Setembro | C14: 287.28 | D14: 347
B15: Outubro | C15: 148.36 | D15: 180
B16: Novembro | C16: 69.41 | D16: 86
B17: Dezembro | C17: 50.52 | D17: 67
B18: Total | C18: =SUM(C6:C17) -> 2078.91 | D18: =SUM(D6:D17) -> 2572

Sheet 2020
B4: APARTAMENTO 210
B5: Mês | C5: Fatura Total (R$) | D5: Consumo Ativo (kWh)
B6: Janeiro | C6: 23.2 | D6: 30
B7: Fevereiro | C7: 22.87 | D7: 30
B8: Março | C8: 51.19 | D8: 69
B9: Abril | C9: 81.07 | D9: 105
B10: Maio | C10: 84.92 | D10: 114
B11: Junho | C11: 123.04 | D11: 171
B12: Julho | C12: 127.33 | D12: 177
B13: Agosto | C13: 88.75 | D13: 122
B14: Setembro | C14: 111.75 | D14: 154
B15: Outubro | C15: 47.19 | D15: 63
B16: Novembro | C16: 22.35 | D16: 30
B17: Dezembro | C17: 30.82 | D17: 37
B18: Total | C18: =SUM(C6:C17) -> 814.48 | D18: =SUM(D6:D17) -> 1102

Sheet 2021
B4: APARTAMENTO 210
B5: Mês | C5: Fatura Total (R$) | D5: Consumo Ativo (kWh)
B6: Janeiro | C6: 37.06 | D6: 43
B7: Fevereiro | C7: 57.66 | D7: 72
B8: Março | C8: 65.49 | D8: 80
B9: Abril | C9: 91.15 | D9: 113
B10: Maio | C10: 82.31 | D10: 103
B11: Junho | C11: 130.8 | D11: 158
B12: Julho | C12: 116.99 | D12: 136
B13: Agosto | C13: 111.62 | D13: 124
B14: Setembro | C14: 89.16 | D14: 92
B15: Outubro | C15: 104.53 | D15: 104
B16: Novembro | C16: 88.45 | D16: 91
B17: Dezembro | C17: 108.99 | D17: 98
B18: Total | C18: =SUM(C6:C17) -> 1084.21 | D18: =SUM(D6:D17) -> 1214

Sheet 2022
B4: APARTAMENTO 210
B5: Mês | C5: Fatura Total (R$) | D5: Consumo Ativo (kWh)
B6: Janeiro | C6: 46.84 | D6: 44
B7: Fevereiro | C7: 45.68 | D7: 44
B8: Março | C8: 51.91 | D8: 47
B9: Abril | C9: 80.95 | D9: 78
B10: Maio | C10: 96.66 | D10: 100
B11: Junho | C11: 207.55 | D11: 231
B12: Julho | C12: 163.82 | D12: 197
B13: Agosto | C13: 131.82 | D13: 159
B14: Setembro | C14: 124.22 | D14: 150
B15: Outubro | C15: 111.16 | D15: 144
B16: Novembro | C16: 87.35 | D16: 108
B17: Dezembro | C17: 47.68 | D17: 49
B18: Total | C18: =SUM(C6:C17) -> 1195.64 | D18: =SUM(D6:D17) -> 1351

Sheet 2023
B4: APARTAMENTO 210
B5: Mês | C5: Fatura Total (R$) | D5: Consumo Ativo (kWh)
B6: Janeiro | C6: 44.8 | D6: 45
B7: Fevereiro | C7: 99.99 | D7: 109
B8: Março | C8: 39.55 | D8: 34
B9: Abril | C9: 98.38 | D9: 112
B10: Maio | C10: 161.39 | D10: 194
B11: Junho | C11: 168.48 | D11: 206
B12: Julho | C12: 68.28 | D12: 74
B13: Agosto | C13: 143.2 | D13: 173
B14: Setembro | C14: 162.39 | D14: 198
B15: Outubro | C15: 135.27 | D15: 162
B16: Novembro | C16: 130.81 | D16: 153
B17: Dezembro | C17: 135.71 | D17: 157
B18: Total | C18: =SUM(C6:C17) -> 1388.25 | D18: =SUM(D6:D17) -> 1617

Sheet 2024
B4: APARTAMENTO 210
B5: Mês | C5: Fatura Total (R$) | D5: Consumo Ativo (kWh)
B6: Janeiro | C6: 62.38 | D6: 65
B7: Fevereiro | C7: 77.91 | D7: 87
B8: Março | C8: 83.55 | D8: 95
B9: Abril | C9: 88.87 | D9: 101
B10: Maio | C10: 102.34 | D10: 118
B11: Junho | C11: 193.7 | D11: 239
B12: Julho | C12: 157.6 | D12: 192
B13: Agosto | C13: 213 | D13: 251
B14: Setembro | C14: 159.52 | D14: 178
B15: Outubro | C15: 133.21 | D15: 141
B16: Novembro | C16: 146.9 | D16: 167
B17: Dezembro | C17: 124.84 | D17: 128
B18: Total | C18: =SUM(C6:C17) -> 1543.82 | D18: =SUM(D6:D17) -> 1762

Sheet 2025
B4: APARTAMENTO 210
B5: Mês | C5: Fatura Total (R$) | D5: Consumo Ativo (kWh)
B6: Janeiro | C6: 92.39 | D6: 86
B7: Fevereiro | C7: 106.02 | D7: 103
B8: Março | C8: 56.73 | D8: 40
B9: Abril | C9: 37.67 | D9: 30
B10: Maio | C10: 44.39 | D10: 37
B11: Junho | C11: 78.95 | D11: 76
B12: Julho | C12: 283.78 | D12: 318
B13: Agosto | C13: 279.67 | D13: 309
B14: Setembro | C14: 277.46 | D14: 292
B15: Outubro | C15: 101.12 | D15: 98
B16: Novembro | C16: 72.29 | D16: 61
B17: Dezembro | C17: 80.51 | D17: 65
B18: Total | C18: =SUM(C6:C17) -> 1510.98 | D18: =SUM(D6:D17) -> 1515

Sheet GRAFICO
B4: APARTAMENTO 210
B5: Mês | C5: Fatura Total (R$) | D5: Consumo Ativo (kWh)
B6: 45870 | C6: 279.67 | D6: 309
B7: 45901 | C7: 277.46 | D7: 292
B8: 45931 | C8: 101.12 | D8: 98
B9: 45962 | C9: 72.29 | D9: 61
B10: 45992 | C10: 80.51 | D10: 65
B11: 46023 | C11: 71.74 | D11: 56
B12: 46054 | C12: 71.55 | D12: 58
B13: 46082 | C13: 88.83 | D13: 75
B14: 46113 | C14: 72.7 | D14: 59
B15: 46143 | C15: 129.58 | D15: 115
B16: 46174 | C16: 249.69 | D16: 225
B17: 46204 | C17: 228.86 | D17: 217
